BEGIN:VCALENDAR
VERSION:2.0
PRODID:-//ChamberMaster//Event Calendar 2.0//EN
METHOD:PUBLISH
X-PUBLISHED-TTL:P3D
REFRESH-INTERVAL:P3D
CALSCALE:GREGORIAN
BEGIN:VEVENT
DTSTART;VALUE=DATE:20250816
DTEND;VALUE=DATE:20250817
TRANSP:TRANSPARENT
X-MICROSOFT-CDO-ALLDAYEVENT:TRUE
SUMMARY:175th Anniversary Celebration Fort Winnebago Masonic Center
DESCRIPTION:Join us as we honor 175 years of rich history at the Fort Winnebago Masonic Center right here in Portage!\n\n\n\nSchedule for the event:\n\n11:00am Open House\n\n12:00pm Opening Ceremony\n\n12:00pm - 2:00pm Lunch\n\n2:00pm Shrine Units perform on Edgewater St.
X-ALT-DESC;FMTTYPE=text/html:<span style="font-size:14px\;"><span style="font-family:arial\;">Join us as we honor 175 years of rich history at the Fort Winnebago Masonic Center right here in Portage!<br />\n<br />\nSchedule for the event:<br />\n<span font-size:="" segoe="" style="color: rgb(8\, 8\, 9)\; font-family: " ui="">11:00am Open House</span><br class="html-br" font-size:="" segoe="" style="color: rgb(8\, 8\, 9)\; font-family: " ui="" />\n<span font-size:="" segoe="" style="color: rgb(8\, 8\, 9)\; font-family: " ui="">12:00pm Opening Ceremony</span><br class="html-br" font-size:="" segoe="" style="color: rgb(8\, 8\, 9)\; font-family: " ui="" />\n<span font-size:="" segoe="" style="color: rgb(8\, 8\, 9)\; font-family: " ui="">12:00pm - 2:00pm Lunch</span><br class="html-br" font-size:="" segoe="" style="color: rgb(8\, 8\, 9)\; font-family: " ui="" />\n<span font-size:="" segoe="" style="color: rgb(8\, 8\, 9)\; font-family: " ui="">2:00pm Shrine Units perform on Edgewater St.&nbsp\;&nbsp\;</span></span></span><br class="html-br" font-size:="" segoe="" style="color: rgb(8\, 8\, 9)\; font-family: " ui="" />\n<br />\n&nbsp\;
LOCATION:Fort Winnebago Masonic Center 205 DeWitt Street Portage\, WI 5390
UID:e.374.38037
SEQUENCE:3
DTSTAMP:20260423T093538Z
URL:http://chamber.portagewi.com/events/details/175th-anniversary-celebration-fort-winnebago-masonic-center-38037
END:VEVENT

END:VCALENDAR
