BEGIN:VCALENDAR
VERSION:2.0
PRODID:-//ChamberMaster//Event Calendar 2.0//EN
METHOD:PUBLISH
X-PUBLISHED-TTL:P3D
REFRESH-INTERVAL:P3D
CALSCALE:GREGORIAN
BEGIN:VEVENT
DTSTART:20250927T120000Z
DTEND:20250927T200000Z
X-MICROSOFT-CDO-ALLDAYEVENT:FALSE
SUMMARY:30th Annual Pumpkin Blowout at Festival Foods
DESCRIPTION:Mark your calendars! The 30th Annual Pumpkin Blowout is happening Saturday\, September 27 from 7 a.m.   3 p.m. at Festival Foods.  We'll be featuring a wide selection of locally-grown pumpkins and festive activities to kick off the fall season.\n\nAfter you pick out your pumpkins\, join us for family-friendly fun\, including a bounce house\, beanbag toss and a mini putt-putt game. We'll also be offering free samples of seasonal favorites such as apple cider.
X-ALT-DESC;FMTTYPE=text/html:<div class="x_elementToProof" data-olk-copy-source="MessageBody" style="border: 0px\; font-variant-numeric: inherit\; font-variant-east-asian: inherit\; font-variant-alternates: inherit\; font-variant-position: inherit\; font-variant-emoji: inherit\; font-stretch: inherit\; font-size: 12pt\; line-height: inherit\; font-family: Calibri\, Helvetica\, sans-serif\; font-optical-sizing: inherit\; font-size-adjust: inherit\; font-kerning: inherit\; font-feature-settings: inherit\; font-variation-settings: inherit\; margin: 0px 0px 16px\; padding: 0px\; vertical-align: baseline\; color: rgb(0\, 0\, 0)\;">Mark your calendars! The 30th Annual Pumpkin Blowout is happening Saturday\, September 27 from 7 a.m. &ndash\; 3 p.m. at Festival Foods.&nbsp\; We&rsquo\;ll be featuring a wide selection of locally-grown pumpkins and festive activities to kick off the fall season.</div>\n\n<div class="x_elementToProof" style="border: 0px\; font-variant-numeric: inherit\; font-variant-east-asian: inherit\; font-variant-alternates: inherit\; font-variant-position: inherit\; font-variant-emoji: inherit\; font-stretch: inherit\; font-size: 12pt\; line-height: inherit\; font-family: Calibri\, Helvetica\, sans-serif\; font-optical-sizing: inherit\; font-size-adjust: inherit\; font-kerning: inherit\; font-feature-settings: inherit\; font-variation-settings: inherit\; margin: 0px 0px 16px\; padding: 0px\; vertical-align: baseline\; color: rgb(0\, 0\, 0)\;">After you pick out your pumpkins\, join us for family-friendly fun\, including a bounce house\, beanbag toss and a mini putt-putt game. We&rsquo\;ll also be offering free samples of seasonal favorites such as apple cider.<br />\n<br />\n&nbsp\;</div>\n
LOCATION:Festival Foods 2915 New Pinery Rd\, Portage\, WI 53901
UID:e.374.38911
SEQUENCE:3
DTSTAMP:20260423T094539Z
URL:http://chamber.portagewi.com/events/details/30th-annual-pumpkin-blowout-at-festival-foods-38911
END:VEVENT

END:VCALENDAR
