BEGIN:VCALENDAR
VERSION:2.0
PRODID:-//ChamberMaster//Event Calendar 2.0//EN
METHOD:PUBLISH
X-PUBLISHED-TTL:P3D
REFRESH-INTERVAL:P3D
CALSCALE:GREGORIAN
BEGIN:VEVENT
DTSTART;VALUE=DATE:20251117
DTEND;VALUE=DATE:20251124
TRANSP:TRANSPARENT
X-MICROSOFT-CDO-ALLDAYEVENT:TRUE
SUMMARY:5 year Celebration at Main Street Consignment
DESCRIPTION:Celebrating 5 Years of Main Street Consignment this Month!\n\nCustomer Appreciation Week is Monday Nov 17th-Sunday Nov 23rd.\n\nEach Day there will be a Spectacular Discount to show our appreciation to our customers keeping us here & growing over the past 5 Years!\n\n \n\nMonday 11/17 - Manic Mark Down Monday - Lots of Green Slash 50% Off Clothing. Dollar Bins throughout the Store (while supplies last)  - Open 10am-3pm \n\n \n\nTuesday 11/18 - Twenty Dollar Tuesday! - For every $20 Spent\, Receive $5 in Main Street Consignment Cash  Open 10am-5pm\n\n \n\nWednesday 11/19 - Wear it Wednesday! - A day for Shopaholics - 20% Off all Regular Priced Clothing\, including New Arrivals and Harley Davidson Apparel Open 10am- 5pm \n\n \n\nThursday 11/20 - Kristine's 40th Birthday Bash - Enjoy Birthday Treats and 40% Off ALL CLOTHING - does NOT include Harley Clothing-  Open 10am-5pm\n\n \n\nFriday 11/21 - Frugal Friday - 20% OFF Footwear - Shoes\, Boots\, Slippers - Includes Name Brand\; Ugg\, Converse\, On Cloud\, Hoka\, etc. For Men\, Women & Children! Open 10am-5pm\n\n \n\nSaturday 11/22 - Style Sensation Saturday- Enjoy 20% ALL Purses - Includes Name Brand- Michael Kors\, Kate Spade\, Coach\, etc.- Open 10am-4pm\n\n \n\nSunday 11/23 - Slam Dunk Sunday- Enjoy 20% OFF ALL SPORTS APPAREL for the entire Family! Open 10am-3pm \n\n \n\n*Some exclusions apply *Vendor Items are NOT part of any advertised sales event! *See store for details
X-ALT-DESC;FMTTYPE=text/html:<div data-olk-copy-source="MessageBody" style="border: 0px\; font: inherit\; margin: 0px\; padding: 0px\; vertical-align: baseline\; color: inherit\;">Celebrating 5 Years of Main Street Consignment this Month!<br />\nCustomer Appreciation Week is Monday Nov 17th-Sunday Nov 23rd.<br />\nEach Day there will be a Spectacular Discount&nbsp\;to show our appreciation to our customers keeping us here &amp\; growing over the past 5 Years!<br />\n&nbsp\;</div>\n\n<div style="border: 0px\; font: inherit\; margin: 0px\; padding: 0px\; vertical-align: baseline\; color: inherit\;">Monday 11/17 - Manic Mark Down Monday - Lots of Green Slash 50% Off Clothing. Dollar Bins throughout the Store (while supplies last)&nbsp\; - Open 10am-3pm&nbsp\;<br />\n&nbsp\;</div>\n\n<div style="border: 0px\; font: inherit\; margin: 0px\; padding: 0px\; vertical-align: baseline\; color: inherit\;">Tuesday 11/18 - Twenty Dollar Tuesday! - For every $20 Spent\, Receive $5 in Main Street Consignment Cash&nbsp\; Open 10am-5pm<br />\n&nbsp\;</div>\n\n<div style="border: 0px\; font: inherit\; margin: 0px\; padding: 0px\; vertical-align: baseline\; color: inherit\;">Wednesday 11/19 - Wear it Wednesday! - A day for Shopaholics - 20% Off all Regular Priced Clothing\, including New Arrivals and Harley Davidson Apparel Open 10am- 5pm&nbsp\;<br />\n&nbsp\;</div>\n\n<div style="border: 0px\; font: inherit\; margin: 0px\; padding: 0px\; vertical-align: baseline\; color: inherit\;">Thursday 11/20 - Kristine&#39\;s 40th Birthday Bash - Enjoy Birthday Treats and 40% Off ALL CLOTHING - does NOT include Harley Clothing-&nbsp\; Open 10am-5pm<br />\n&nbsp\;</div>\n\n<div style="border: 0px\; font: inherit\; margin: 0px\; padding: 0px\; vertical-align: baseline\; color: inherit\;">Friday 11/21 - Frugal Friday - 20% OFF Footwear&nbsp\;- Shoes\, Boots\, Slippers - Includes Name Brand\; Ugg\, Converse\, On Cloud\, Hoka\, etc. For Men\, Women &amp\; Children! Open 10am-5pm<br />\n&nbsp\;</div>\n\n<div style="border: 0px\; font: inherit\; margin: 0px\; padding: 0px\; vertical-align: baseline\; color: inherit\;">Saturday 11/22 - Style Sensation Saturday- Enjoy 20% ALL Purses - Includes Name Brand- Michael Kors\, Kate Spade\, Coach\, etc.- Open 10am-4pm<br />\n&nbsp\;</div>\n\n<div style="border: 0px\; font: inherit\; margin: 0px\; padding: 0px\; vertical-align: baseline\; color: inherit\;">Sunday 11/23 - Slam Dunk Sunday- Enjoy 20% OFF ALL SPORTS APPAREL for the entire Family! Open 10am-3pm&nbsp\;<br />\n&nbsp\;</div>\n\n<div style="border: 0px\; font: inherit\; margin: 0px\; padding: 0px\; vertical-align: baseline\; color: inherit\;">*Some exclusions apply *Vendor Items are NOT part of any advertised sales event! *See store for details&nbsp\;</div>\n
LOCATION:Main Street Consignment 13 Main Street Portage\, WI 53901
UID:e.374.39296
SEQUENCE:3
DTSTAMP:20260423T015744Z
URL:http://chamber.portagewi.com/events/details/5-year-celebration-at-main-street-consignment-39296
END:VEVENT

END:VCALENDAR
