BEGIN:VCALENDAR
VERSION:2.0
PRODID:-//ChamberMaster//Event Calendar 2.0//EN
METHOD:PUBLISH
X-PUBLISHED-TTL:P3D
REFRESH-INTERVAL:P3D
CALSCALE:GREGORIAN
BEGIN:VEVENT
DTSTART:20250911T140000Z
DTEND:20250912T023000Z
X-MICROSOFT-CDO-ALLDAYEVENT:FALSE
SUMMARY:9/11 Day of Service and Remembrance
DESCRIPTION:Join Habitat for Humanity for our annual Day of Service and Remembrance. There will be a ceremony at 9 AM featuring community leaders speaking and the Portage Color guard. The ceremony will be followed by a veteran led service activity creating care packages for 50 different First Responder units in our 5 county service area.
X-ALT-DESC;FMTTYPE=text/html:<span style="color: rgb(8\, 8\, 9)\; font-family: &quot\;Segoe UI Historic&quot\;\, &quot\;Segoe UI&quot\;\, Helvetica\, Arial\, sans-serif\; font-size: 15px\;">Join Habitat for Humanity for our annual Day of Service and Remembrance. There will be a ceremony at 9 AM featuring community leaders speaking and the Portage Color guard. The ceremony will be followed by a veteran led service activity creating care packages for 50 different First Responder units in our 5 county service area.</span><br />\n<br />\n&nbsp\;
LOCATION:Habitat of Humanity ReStore 1450 East Wisconsin Street Portage\, WI 53901
UID:e.374.38165
SEQUENCE:3
DTSTAMP:20260423T075606Z
URL:http://chamber.portagewi.com/events/details/9-11-day-of-service-and-remembrance-38165
END:VEVENT

END:VCALENDAR
