BEGIN:VCALENDAR
VERSION:2.0
PRODID:-//ChamberMaster//Event Calendar 2.0//EN
METHOD:PUBLISH
X-PUBLISHED-TTL:P3D
REFRESH-INTERVAL:P3D
CALSCALE:GREGORIAN
BEGIN:VEVENT
DTSTART:20251105T000000Z
DTEND:20251105T020000Z
X-MICROSOFT-CDO-ALLDAYEVENT:FALSE
SUMMARY:90s & 2000s THROWBACK TRIVIA NIGHT
DESCRIPTION:Think you know your Backstreet Boys from your Beyonc ?  Can you finish the lyric to Bye Bye Bye or Since U Been Gone? \n\n\n\nGrab your crew\, grab your favorite shake\, and join us for a night packed with throwback hits\, laughs\, and nostalgia!\n\n\n\nFREE ENTRY!\n\nPre-register your team of up to 4 people to save your spot (limited space!)\n\nRegister here: https://boards.com/a/pbDM1.21NhZm\n\n\n\nPrizes for the top team + bragging rights for being the ultimate throwback champs!\n\nTag your trivia crew below and get ready for a night full of fun\, music\, and memories!
X-ALT-DESC;FMTTYPE=text/html:&#8203\;Think you know your Backstreet Boys from your Beyonc&eacute\;?&nbsp\;&nbsp\;Can you finish the lyric to Bye Bye Bye or Since U Been Gone?&nbsp\;<br />\n<br />\nGrab your crew\, grab your favorite shake\, and join us for a night packed with throwback hits\, laughs\, and nostalgia!<br />\n<br />\nFREE ENTRY!<br />\nPre-register your team of up to 4 people to save your spot (limited space!)<br />\nRegister here: https://boards.com/a/pbDM1.21NhZm<br />\n<br />\nPrizes for the top team + bragging rights for being the ultimate throwback champs!<br />\nTag your trivia crew below and get ready for a night full of fun\, music\, and memories!<br />\n&nbsp\;
LOCATION:DeWitt Street Nutrition 313 DeWitt Street Portage\, WI 53901
UID:e.374.39347
SEQUENCE:3
DTSTAMP:20260423T015628Z
URL:http://chamber.portagewi.com/events/details/90s-2000s-throwback-trivia-night-39347
END:VEVENT

END:VCALENDAR
