BEGIN:VCALENDAR
VERSION:2.0
PRODID:-//ChamberMaster//Event Calendar 2.0//EN
METHOD:PUBLISH
X-PUBLISHED-TTL:P3D
REFRESH-INTERVAL:P3D
CALSCALE:GREGORIAN
BEGIN:VEVENT
DTSTART:20260608T210000Z
DTEND:20260609T003000Z
X-MICROSOFT-CDO-ALLDAYEVENT:FALSE
SUMMARY:American Legion Post 47 Annual Steak Fry
DESCRIPTION:American Legion Post 47\n\nAnnual Steak Fry - grilled to your perfection!\n\nGrilled 8oz. Ribeye\, au jus\, garden salad\, baked potato\, milk\, coffee\, buns\, dessert.\n\nCash bar courtesy Knights of Columbus\n\n\n\nOpen to the public: $23 per person\n\nGet your steak fry ticket today by calling 608-697-1441\n\n\n\nFundraiser to support American Legion Veterans & Camp American Legion Cabin for Columbia County
X-ALT-DESC;FMTTYPE=text/html:<strong>American Legion Post 47</strong><br />\nAnnual Steak Fry - grilled to your perfection!<br />\nGrilled 8oz. Ribeye\, au jus\, garden salad\, baked potato\, milk\, coffee\, buns\, dessert.<br />\nCash bar courtesy Knights of Columbus<br />\n<br />\nOpen to the public: $23 per person<br />\nGet your steak fry ticket today by calling 608-697-1441<br />\n<br />\nFundraiser to support American Legion Veterans &amp\; Camp American Legion Cabin for Columbia County
LOCATION:KC Hall 918 Silver Lake Drive Portage\, WI
UID:e.374.40306
SEQUENCE:3
DTSTAMP:20260422T192917Z
URL:http://chamber.portagewi.com/events/details/american-legion-post-47-annual-steak-fry-40306
END:VEVENT

END:VCALENDAR
