BEGIN:VCALENDAR
VERSION:2.0
PRODID:-//ChamberMaster//Event Calendar 2.0//EN
METHOD:PUBLISH
X-PUBLISHED-TTL:P3D
REFRESH-INTERVAL:P3D
CALSCALE:GREGORIAN
BEGIN:VEVENT
DTSTART:20251003T210000Z
DTEND:20251003T230000Z
X-MICROSOFT-CDO-ALLDAYEVENT:FALSE
SUMMARY:Artist Opening Reception at PCA - Oct 2025
DESCRIPTION:Beauty Near and Far:  Wisconsin & Jamaica\n\nBY CATHERINE CAPELLARO\n\nCatherine Capellaro is a writer\, painter\, and musician living in Madison\, Wisconsin. When COVID-19 came\, two of her primary channels of expression   writing for a weekly newspaper and performing with VO5   slammed shut. Not knowing what was coming\, Catherine looked inward. Capellaro has made hundreds of paintings\, many close to home\, and some much farther afield. She is still seeking and striving to capture the light. Sharing these paintings has brought her joy and helped Catherine stay connected to the wonder most felt when in nature.\n\nJoin us for a reception on Friday\, October 3 from 4pm-6pm.\n\nTHRU OCTOBER 31\, 2025
X-ALT-DESC;FMTTYPE=text/html:Beauty Near and Far:&nbsp\; Wisconsin &amp\; Jamaica<br />\nBY CATHERINE CAPELLARO<br />\nCatherine Capellaro is a writer\, painter\, and musician living in Madison\, Wisconsin. When COVID-19 came\, two of her primary channels of expression &mdash\; writing for a weekly newspaper and performing with VO5 &mdash\; slammed shut. Not knowing what was coming\, Catherine looked inward. Capellaro has made hundreds of paintings\, many close to home\, and some much farther afield. She is still seeking and striving to capture the light. Sharing these paintings has brought her joy and helped Catherine stay connected to the wonder most felt when in nature.<br />\nJoin us for a reception on Friday\, October 3 from 4pm-6pm.<br />\nTHRU OCTOBER 31\, 2025<br />\n&nbsp\;
LOCATION:Portage Center for the Arts 310 E. Cook Street
UID:e.374.38883
SEQUENCE:3
DTSTAMP:20260423T033114Z
URL:http://chamber.portagewi.com/events/details/artist-opening-reception-at-pca-oct-2025-38883
END:VEVENT

END:VCALENDAR
