BEGIN:VCALENDAR
VERSION:2.0
PRODID:-//ChamberMaster//Event Calendar 2.0//EN
METHOD:PUBLISH
X-PUBLISHED-TTL:P3D
REFRESH-INTERVAL:P3D
CALSCALE:GREGORIAN
BEGIN:VEVENT
DTSTART:20251101T220000Z
DTEND:20251102T030000Z
X-MICROSOFT-CDO-ALLDAYEVENT:FALSE
SUMMARY:Backlight Bacon Shoot at Portage Rod & Gun Club
DESCRIPTION:Who doesn't love bacon?!\n\nPortage Rod and Gun Club will be having its first Blacklight bacon shooting event. Cost to shoot is $4 per round. 1 shot at each station with a squad of five. The shooter with the best score will receive a 1lb package of bacon from Johnson's sausage shop in Rio Wi. In the event of a tie the shooters will go to a shoot off backing up yardages until we have a winner.\n\n\n\nNon shooters also welcome! Don't need to be a club member to participate. Also we will be having a 50/50 raffle during the event
X-ALT-DESC;FMTTYPE=text/html:<span font-size:="" segoe="" style="color: rgb(8\, 8\, 9)\; font-family: " ui="">Who doesn&rsquo\;t love bacon?!<br />\nPortage Rod and Gun Club will be having its first Blacklight bacon shooting event. Cost to shoot is $4 per round. 1 shot at each station with a squad of five. The shooter with the best score will receive a 1lb package of bacon from Johnson&rsquo\;s sausage shop in Rio Wi. In the event of a tie the shooters will go to a shoot off backing up yardages until we have a winner.<br />\n<br />\nNon shooters also welcome! Don&rsquo\;t need to be a club member to participate. Also we will be having a 50/50 raffle during the event</span>
LOCATION:Portage Rod and Gun Club W10450 State Road 16 Portage\, WI 53901
UID:e.374.38930
SEQUENCE:3
DTSTAMP:20260423T021113Z
URL:http://chamber.portagewi.com/events/details/backlight-bacon-shoot-at-portage-rod-gun-club-38930
END:VEVENT

END:VCALENDAR
