BEGIN:VCALENDAR
VERSION:2.0
PRODID:-//ChamberMaster//Event Calendar 2.0//EN
METHOD:PUBLISH
X-PUBLISHED-TTL:P3D
REFRESH-INTERVAL:P3D
CALSCALE:GREGORIAN
BEGIN:VEVENT
DTSTART;VALUE=DATE:20250915
DTEND;VALUE=DATE:20251001
TRANSP:TRANSPARENT
X-MICROSOFT-CDO-ALLDAYEVENT:TRUE
SUMMARY:Bee Alive Yoga 4 Year Celebration!
DESCRIPTION:Bee Alive Yoga is Celebrating 4 Years!\n\n$4 drop-in class. Celebrate with us on the mat. 1 per person\, must be used in September.\n\n$44 one-month\, unlimited pass: includes a free cork mat and Bee Alive bag. Must have first use within 60 days of purchase\, good for 30 days from first use. Find celebration details at\, beealiveyoga.com
X-ALT-DESC;FMTTYPE=text/html:Bee Alive Yoga is Celebrating 4 Years!<br />\n$4 drop-in class. Celebrate with us on the mat. 1 per person\, must be used in September.<br />\n$44 one-month\, unlimited pass: includes a free cork mat and Bee Alive bag. Must have first use within 60 days of purchase\, good for 30 days from first use. Find celebration details at\, beealiveyoga.com
LOCATION:230 W. Wisconsin St.
UID:e.374.38918
SEQUENCE:3
DTSTAMP:20260423T074738Z
URL:http://chamber.portagewi.com/events/details/bee-alive-yoga-4-year-celebration-38918
END:VEVENT

END:VCALENDAR
