BEGIN:VCALENDAR
VERSION:2.0
PRODID:-//ChamberMaster//Event Calendar 2.0//EN
METHOD:PUBLISH
X-PUBLISHED-TTL:P3D
REFRESH-INTERVAL:P3D
CALSCALE:GREGORIAN
BEGIN:VEVENT
DTSTART:20250926T150000Z
DTEND:20250926T170000Z
X-MICROSOFT-CDO-ALLDAYEVENT:FALSE
SUMMARY:Bee Alive Yoga Open House Celebration
DESCRIPTION:Open House Celebrations at Bee Alive Yoga\n\nFriday\, Sept. 26\, 10am-Noon\n\nTuesday\, Sept. 30\, 4pm-7pm\n\nExclusive Membership Deals (must sign up in person)\n\n$79 Founder's Monthly Membership - Unlimited Classes\n\n$49 Casual Membership - 5 classes monthly\n\n$50 Chair Membership - Unlimited\n\n\n\nNew family memberships - add household member for $39 month\n\nFind celebration details at beealiveyoga.com
X-ALT-DESC;FMTTYPE=text/html:<strong>Open House Celebrations at Bee Alive Yoga</strong><br />\nFriday\, Sept. 26\, 10am-Noon<br />\nTuesday\, Sept. 30\, 4pm-7pm<br />\nExclusive Membership Deals (must sign up in person)<br />\n$79 Founder&#39\;s Monthly Membership - Unlimited Classes<br />\n$49 Casual Membership - 5 classes monthly<br />\n$50 Chair Membership - Unlimited<br />\n<br />\nNew family memberships - add household member for $39 month<br />\nFind celebration details at beealiveyoga.com
LOCATION:230 W. Wisconsin Street
UID:e.374.38916
SEQUENCE:3
DTSTAMP:20260423T075504Z
URL:http://chamber.portagewi.com/events/details/bee-alive-yoga-open-house-celebration-38916
END:VEVENT

END:VCALENDAR
