BEGIN:VCALENDAR
VERSION:2.0
PRODID:-//ChamberMaster//Event Calendar 2.0//EN
METHOD:PUBLISH
X-PUBLISHED-TTL:P3D
REFRESH-INTERVAL:P3D
CALSCALE:GREGORIAN
BEGIN:VEVENT
DTSTART:20251105T190000Z
DTEND:20251105T200000Z
X-MICROSOFT-CDO-ALLDAYEVENT:FALSE
SUMMARY:Bingo at the Library
DESCRIPTION:Join us for Bingo with fun prizes for adults. All game supplies provided.
X-ALT-DESC;FMTTYPE=text/html:Join us for Bingo with fun prizes for adults. All game supplies provided.
LOCATION:Portage Public Library 253 W. Edgewater Street
UID:e.374.39286
SEQUENCE:3
DTSTAMP:20260423T015647Z
URL:http://chamber.portagewi.com/events/details/bingo-at-the-library-39286
END:VEVENT

END:VCALENDAR
