BEGIN:VCALENDAR
VERSION:2.0
PRODID:-//ChamberMaster//Event Calendar 2.0//EN
METHOD:PUBLISH
X-PUBLISHED-TTL:P3D
REFRESH-INTERVAL:P3D
CALSCALE:GREGORIAN
BEGIN:VEVENT
DTSTART;VALUE=DATE:20251128
DTEND;VALUE=DATE:20251129
TRANSP:TRANSPARENT
X-MICROSOFT-CDO-ALLDAYEVENT:TRUE
SUMMARY:Black Friday Specials at Main Street Consignment
DESCRIPTION:BLACK FRIDAY   November 28\n\nOpen Special Hours: 8am 5pm\n\n\n\nFrom 8am 10am: 30% OFF All Clothing\n\nFrom 10am 5pm: 20% OFF All Clothing
X-ALT-DESC;FMTTYPE=text/html:<div dir="auto" style="font-family: &quot\;Segoe UI Historic&quot\;\, &quot\;Segoe UI&quot\;\, Helvetica\, Arial\, sans-serif\; color: rgb(8\, 8\, 9)\; font-size: 15px\; white-space-collapse: preserve\;">BLACK FRIDAY &ndash\; November 28</div>\n\n<div dir="auto" style="font-family: &quot\;Segoe UI Historic&quot\;\, &quot\;Segoe UI&quot\;\, Helvetica\, Arial\, sans-serif\; color: rgb(8\, 8\, 9)\; font-size: 15px\; white-space-collapse: preserve\;">Open Special Hours: 8am&ndash\;5pm</div>\n\n<div dir="auto" style="font-family: &quot\;Segoe UI Historic&quot\;\, &quot\;Segoe UI&quot\;\, Helvetica\, Arial\, sans-serif\; color: rgb(8\, 8\, 9)\; font-size: 15px\; white-space-collapse: preserve\;"><br />\nFrom 8am&ndash\;10am: 30% OFF All Clothing</div>\n\n<div dir="auto" style="font-family: &quot\;Segoe UI Historic&quot\;\, &quot\;Segoe UI&quot\;\, Helvetica\, Arial\, sans-serif\; color: rgb(8\, 8\, 9)\; font-size: 15px\; white-space-collapse: preserve\;">From 10am&ndash\;5pm: 20% OFF All Clothing</div>\n\n<div dir="auto" style="font-family: &quot\;Segoe UI Historic&quot\;\, &quot\;Segoe UI&quot\;\, Helvetica\, Arial\, sans-serif\; color: rgb(8\, 8\, 9)\; font-size: 15px\; white-space-collapse: preserve\;">&nbsp\;</div>\n
LOCATION:Main Street Consignment 13 Main Street Portage\, WI 53901
UID:e.374.39297
SEQUENCE:3
DTSTAMP:20260423T015743Z
URL:http://chamber.portagewi.com/events/details/black-friday-specials-at-main-street-consignment-39297
END:VEVENT

END:VCALENDAR
