BEGIN:VCALENDAR
VERSION:2.0
PRODID:-//ChamberMaster//Event Calendar 2.0//EN
METHOD:PUBLISH
X-PUBLISHED-TTL:P3D
REFRESH-INTERVAL:P3D
CALSCALE:GREGORIAN
BEGIN:VEVENT
DTSTART:20260502T120000Z
DTEND:20260502T220000Z
X-MICROSOFT-CDO-ALLDAYEVENT:FALSE
SUMMARY:Bliffert Grand Re-Opening Customer Celebration
DESCRIPTION:Grand Re-Opening Customer Celebration at Bliffert Lumber\, Hardware & Design!\n\n \nWe're proud to unveil our newly remodeled showroom\, and we'd love for you to stop by and explore the updated space.\n\n \n\nJoin us for a chance to win Milwaukee Tools\, mingle with the Bliffert team\, and enjoy food truck favorites!\n\nSaturday\, May 2 | 7:00am-5:00pm
X-ALT-DESC;FMTTYPE=text/html:<span style="font-family:arial\;"><span style="font-size:14px\;">Grand Re-Opening Customer Celebration at&nbsp\;Bliffert Lumber\, Hardware &amp\; Design!</span></span><br />\n&nbsp\;\n<div class="x_elementToProof" data-olk-copy-source="MessageBody" style="border: 0px\; font-variant-numeric: inherit\; font-variant-east-asian: inherit\; font-variant-alternates: inherit\; font-variant-position: inherit\; font-variant-emoji: inherit\; font-stretch: inherit\; font-size: 12pt\; line-height: inherit\; font-family: Calibri\, Helvetica\, sans-serif\; font-optical-sizing: inherit\; font-size-adjust: inherit\; font-kerning: inherit\; font-feature-settings: inherit\; font-variation-settings: inherit\; font-language-override: inherit\; margin: 0px\; padding: 0px\; vertical-align: baseline\; color: rgb(0\, 0\, 0)\;"><span style="font-family:arial\;"><span style="font-size:14px\;">We&rsquo\;re proud to unveil our newly remodeled showroom\, and we&rsquo\;d love for you to stop by and explore the updated space.</span></span><br />\n&nbsp\;</div>\n\n<div class="x_elementToProof" style="border: 0px\; font-variant-numeric: inherit\; font-variant-east-asian: inherit\; font-variant-alternates: inherit\; font-variant-position: inherit\; font-variant-emoji: inherit\; font-stretch: inherit\; font-size: 12pt\; line-height: inherit\; font-family: Calibri\, Helvetica\, sans-serif\; font-optical-sizing: inherit\; font-size-adjust: inherit\; font-kerning: inherit\; font-feature-settings: inherit\; font-variation-settings: inherit\; font-language-override: inherit\; margin: 0.5em 0px 0px\; padding: 0px\; vertical-align: baseline\; color: rgb(0\, 0\, 0)\;"><span style="font-family:arial\;"><span style="font-size:14px\;">Join us for a chance to win Milwaukee Tools\, mingle with the Bliffert team\, and enjoy food truck favorites!</span></span></div>\n\n<div class="x_elementToProof" style="border: 0px\; font-variant-numeric: inherit\; font-variant-east-asian: inherit\; font-variant-alternates: inherit\; font-variant-position: inherit\; font-variant-emoji: inherit\; font-stretch: inherit\; font-size: 12pt\; line-height: inherit\; font-family: Calibri\, Helvetica\, sans-serif\; font-optical-sizing: inherit\; font-size-adjust: inherit\; font-kerning: inherit\; font-feature-settings: inherit\; font-variation-settings: inherit\; font-language-override: inherit\; margin: 0.5em 0px 0px\; padding: 0px\; vertical-align: baseline\; color: rgb(0\, 0\, 0)\;"><span style="font-family:arial\;"><span style="font-size:14px\;">Saturday\, May 2 | 7:00am-5:00pm</span></span><br />\n&nbsp\;</div>\n\n<div class="x14z9mp xat24cr x1lziwak x1vvkbs xtlvy1s x126k92a" style="white-space-collapse: preserve\; margin-inline: 0px\; overflow-wrap: break-word\; margin-bottom: 0px\; margin-top: 0.5em\; font-family: &quot\;Segoe UI Historic&quot\;\, &quot\;Segoe UI&quot\;\, Helvetica\, Arial\, sans-serif\; color: rgb(8\, 8\, 9)\; font-size: 15px\;">\n<div dir="auto" style="font-family: inherit\;">&nbsp\;</div>\n</div>\n
LOCATION:Bliffert Lumber\, Hardware & Design 1009 East Wisconsin Street Portage\, WI 53901
UID:e.374.40109
SEQUENCE:3
DTSTAMP:20260422T210123Z
URL:http://chamber.portagewi.com/events/details/bliffert-grand-re-opening-customer-celebration-40109
END:VEVENT

END:VCALENDAR
