BEGIN:VCALENDAR
VERSION:2.0
PRODID:-//ChamberMaster//Event Calendar 2.0//EN
METHOD:PUBLISH
X-PUBLISHED-TTL:P3D
REFRESH-INTERVAL:P3D
CALSCALE:GREGORIAN
BEGIN:VEVENT
DTSTART;VALUE=DATE:20190306
DTEND;VALUE=DATE:20190307
TRANSP:TRANSPARENT
X-MICROSOFT-CDO-ALLDAYEVENT:TRUE
SUMMARY:Book Discussion at Agency House
DESCRIPTION:The Historic Indian Agency House will host a book discussion featuring the book Waubun by Juliette Kinzie\, starting March 6th at 4pm.\n\n\n\nThere is so much information about early Portage history packed into this book and in each forward of each new printing through the years. In this discussion at the Agency House\, we will divide the book and forwards up and talk about in segments and discuss together.\n\n\n\nPlease RSVP to historicindianagencyhouse@gmail.com or leave at message at 608 742 6362.
X-ALT-DESC;FMTTYPE=text/html:<span style="font-size: 16px\;"><span style="font-family: arial\;"><span style="color: rgb(29\, 33\, 41)\;">The Historic Indian Agency House will host a book discussion featuring the book Waubun by Juliette Kinzie\, starting March 6th at 4pm.<br />\n<br />\nThere is so much information about early Portage history packed into this book and in each forward of each new printing through the years. In this discussion at the Agency House\, we will divide the book and forwards up and talk about in segments and discuss together.<br />\n<br />\nPlease RSVP to <a href="mailto:historicindianagencyhouse@gmail.com"><span style="color: rgb(0\, 0\, 255)\;">historicindianagencyhouse@gmail.com</span></a> or leave at message at 608 742 6362. </span>&nbsp\;<br />\n&nbsp\;</span></span>
LOCATION:1490 Agency House Road Portage\, WI 53901
UID:e.374.25724
SEQUENCE:3
DTSTAMP:20260421T220225Z
URL:http://chamber.portagewi.com/events/details/book-discussion-at-agency-house-25724
END:VEVENT

END:VCALENDAR
