BEGIN:VCALENDAR
VERSION:2.0
PRODID:-//ChamberMaster//Event Calendar 2.0//EN
METHOD:PUBLISH
X-PUBLISHED-TTL:P3D
REFRESH-INTERVAL:P3D
CALSCALE:GREGORIAN
BEGIN:VEVENT
DTSTART:20250823T200000Z
DTEND:20250823T220000Z
X-MICROSOFT-CDO-ALLDAYEVENT:FALSE
SUMMARY:Book Launch at Mercantile
DESCRIPTION:BOOK LAUNCH at MERCANTILE  3PM to 5PM\n\nThe Mercantile\, 117 W. Cook Street\, is hosting a Book Launch from 3pm to 5pm. The book\, Haunted Portage!\, is by Shelley Mordini. Stop by during the Taste of Portage!
X-ALT-DESC;FMTTYPE=text/html:<u style="color: rgb(51\, 51\, 51)\; font-family: sans-serif\, Arial\, Verdana\, &quot\;Trebuchet MS&quot\;\; font-size: 16px\; background-color: rgb(255\, 255\, 255)\;">BOOK LAUNCH at MERCANTILE</u><span style="color: rgb(51\, 51\, 51)\; font-family: sans-serif\, Arial\, Verdana\, &quot\;Trebuchet MS&quot\;\; font-size: 16px\; background-color: rgb(255\, 255\, 255)\;">&nbsp\; 3PM&nbsp\;to 5PM</span><br />\n<span style="color: rgb(51\, 51\, 51)\; font-family: sans-serif\, Arial\, Verdana\, &quot\;Trebuchet MS&quot\;\; font-size: 16px\; background-color: rgb(255\, 255\, 255)\;">The Mercantile\, 117 W. Cook Street\, is hosting a Book Launch from 3pm to 5pm. The book\,&nbsp\;</span><em style="color: rgb(51\, 51\, 51)\; font-family: sans-serif\, Arial\, Verdana\, &quot\;Trebuchet MS&quot\;\; font-size: 16px\; background-color: rgb(255\, 255\, 255)\;">Haunted Portage!</em><span style="color: rgb(51\, 51\, 51)\; font-family: sans-serif\, Arial\, Verdana\, &quot\;Trebuchet MS&quot\;\; font-size: 16px\; background-color: rgb(255\, 255\, 255)\;">\, is by Shelley Mordini. Stop by during the Taste of Portage!&nbsp\;</span>
LOCATION:
UID:e.374.38158
SEQUENCE:3
DTSTAMP:20260423T092557Z
URL:http://chamber.portagewi.com/events/details/book-launch-at-mercantile-38158
END:VEVENT

END:VCALENDAR
