BEGIN:VCALENDAR
VERSION:2.0
PRODID:-//ChamberMaster//Event Calendar 2.0//EN
METHOD:PUBLISH
X-PUBLISHED-TTL:P3D
REFRESH-INTERVAL:P3D
CALSCALE:GREGORIAN
BEGIN:VEVENT
DTSTART;VALUE=DATE:20190306
DTEND;VALUE=DATE:20190307
TRANSP:TRANSPARENT
X-MICROSOFT-CDO-ALLDAYEVENT:TRUE
SUMMARY:Business Day in Madison
DESCRIPTION:Monona Terrace Community & Convention Center\, Madison\n\nWelcome Reception:\n\nMarch 5\, 2019 at The Madison Club\, Madison\n\nBusiness Day in Madison:\n\nMarch 6\, 2019 at Monona Terrace Community & Convention Center\, Madison\n\n\nBusiness Day in Madison will take place on Wednesday\, March 6\, 2019 at the Monona Terrace Community & Convention Center. This event brings business leaders from all over the state together to discuss important issues facing the business community and our state. We invite you to attend what is certain to be an insightful program.\n\nThis year's program will feature ED HENRY\, award-winning political journalist\, chief national correspondent for FOX News and New York Times bestselling author\; DENNIS PRAGER\, bestselling author\, columnist and nationally syndicated radio talk show host\; and TRAVIS MILLS\, retired United States Army staff sergeant\, recalibrated warrior\, motivational speaker\, actor and advocate for veterans and amputees.\n\n\nClick here for a complete schedule and registration information\n\n \n\nWisconsin's premier legislative program brings business leaders from all over the state together to meet with policymakers and discuss important issues facing our state.
X-ALT-DESC;FMTTYPE=text/html:<div>\n<div style="margin: 0in 0in 0pt\;">\n<h3 style="text-align: center\;"><span style="color: rgb(0\, 0\, 0)\;">Monona Terrace Community &amp\; Convention Center\, Madison</span></h3>\n\n<p style="text-align: center\;"><span style="color: rgb(128\, 0\, 0)\;"><strong>Welcome Reception:</strong></span><br />\nMarch 5\, 2019 at The Madison Club\, Madison</p>\n\n<p style="text-align: center\;"><span style="color: rgb(128\, 0\, 0)\;"><strong>Business Day in Madison:</strong></span><br />\nMarch 6\, 2019 at Monona Terrace Community &amp\; Convention Center\, Madison</p>\n\n<hr />\n<p style="text-align: left\;">Business Day in Madison will take place on Wednesday\, March 6\, 2019 at the Monona Terrace Community &amp\; Convention Center. This event brings business leaders from all over the state together to discuss important issues facing the business community and our state. We invite you to attend what is certain to be an insightful program.</p>\n\n<p>This year&rsquo\;s program will feature <strong>ED HENRY</strong>\, award-winning political journalist\, chief national correspondent for FOX News and New York Times bestselling author\; <strong>DENNIS PRAGER</strong>\, bestselling author\, columnist and nationally syndicated radio talk show host\; and <strong>TRAVIS MILLS</strong>\, retired United States Army staff sergeant\, recalibrated warrior\, motivational speaker\, actor and advocate for veterans and amputees.</p>\n<br />\n<span style="font-size: larger\;"><span style="font-family: arial\;"><a href="https://www.wmc.org/event/business-day-in-madison/">Click here for a complete schedule and registration information</a></span></span></div>\n\n<div style="margin: 0in 0in 0pt\;">&nbsp\;</div>\n\n<div style="margin: 0in 0in 0pt\;"><span style="font-family: arial\;">Wisconsin&#39\;s premier legislative program brings business leaders from all over the state together to meet with policymakers and discuss important issues facing our state.</span><br />\n<br />\n&nbsp\;</div>\n</div>\n
LOCATION:Monona Terrace Community & Convention Center in Madison.
UID:e.374.24653
SEQUENCE:3
DTSTAMP:20260421T215301Z
URL:http://chamber.portagewi.com/events/details/business-day-in-madison-24653
END:VEVENT

END:VCALENDAR
