BEGIN:VCALENDAR
VERSION:2.0
PRODID:-//ChamberMaster//Event Calendar 2.0//EN
METHOD:PUBLISH
X-PUBLISHED-TTL:P3D
REFRESH-INTERVAL:P3D
CALSCALE:GREGORIAN
BEGIN:VEVENT
DTSTART;VALUE=DATE:20251023
DTEND;VALUE=DATE:20251024
TRANSP:TRANSPARENT
X-MICROSOFT-CDO-ALLDAYEVENT:TRUE
SUMMARY:Business Day in Madison
DESCRIPTION:Monona Terrace Community & Convention Center\, Madison\n\n\nWisconsin's premier legislative program brings business leaders from all over the state together to meet with policymakers and discuss important issues facing our state.\n\n\n\nBusiness Day in Madison brings business leaders from all over the state together to discuss important issues facing the business community and our state. We invite you to attend what is certain to be an insightful program.
X-ALT-DESC;FMTTYPE=text/html:<div style="margin: 0in 0in 0pt\;">\n<h3 style="text-align: center\;"><span style="font-size: 14px\;"><span style="font-family: arial\;"><span style="color: rgb(0\, 0\, 0)\;">Monona Terrace Community &amp\; Convention Center\, Madison</span></span></span></h3>\n</div>\n\n<div style="margin: 0in 0in 0pt\;"><span style="font-size: 14px\;"><span style="font-family: arial\;">Wisconsin&#39\;s premier legislative program brings business leaders from all over the state together to meet with policymakers and discuss important issues facing our state.<br />\n<br />\n<span style="font-size: 14px\;"><span style="font-family: arial\;">Business Day in Madison brings business leaders from all over the state together to discuss important issues facing the business community and our state. We invite you to attend what is certain to be an insightful program.</span></span></span></span>\n\n<p align="LEFT">&nbsp\;</p>\n<br />\n&nbsp\;</div>\n
LOCATION:Monona Terrace Community & Convention Center in Madison.
UID:e.374.37820
SEQUENCE:3
DTSTAMP:20260423T033446Z
URL:http://chamber.portagewi.com/events/details/business-day-in-madison-37820
END:VEVENT

END:VCALENDAR
