BEGIN:VCALENDAR
VERSION:2.0
PRODID:-//ChamberMaster//Event Calendar 2.0//EN
METHOD:PUBLISH
X-PUBLISHED-TTL:P3D
REFRESH-INTERVAL:P3D
CALSCALE:GREGORIAN
BEGIN:VEVENT
DTSTART:20251025T140000Z
DTEND:20251025T153000Z
X-MICROSOFT-CDO-ALLDAYEVENT:FALSE
SUMMARY:Business Trick or Treat Spooktacular
DESCRIPTION:Portage's Business Trick-or-Treat Spooktacular & Costume Contest!  \n\n  Date: Saturday\, October 25\, 2025\n\n  Time: 9:00am   10:30am\n\n  Location: Commerce Plaza for Costume Contest & Participating Businesses across Portage\n\nKick off your Halloween fun with the Boys & Girls Club Costume Contest at 9am in Commerce Plaza! Kids can show off their spookiest\, silliest\, or most creative costumes\, with prizes awarded in various age categories.\n\nAfter the contest\, head out for trick-or-treating at local businesses throughout Portage. This FREE\, family-friendly event is the perfect way to celebrate Halloween\, support local shops\, and enjoy a safe and festive morning.\n\n  Dress up\, bring your treat bags\, and explore all the fun Portage has to offer we can't wait to see your costumes!\n\n Participating businesses include:\n\n\n\nNorthside Area\n\nCommunity Bank of Portage - 2930 New Pinery Road\n\nM&M Tackle It Bait Shop - 2830 New Pinery Road\, Suite 12\n\nU.S. Bank - 2848 New Pinery Road\n\n\n\nDowntown Area\n\nCutting Edge Insurance Agency - 109 West Cook Street\n\nThe Mercantile - 117 West Cook Street\n\nUptown Exchange  - 119 West Cook Street\n\nForever Yours Jewelry - 123 West Cook Street\n\nR. Condon Gallery & Custom Framery - 136 West Cook Street\n\nPortage Craft Mall - 126 West Cook Street\n\nRustic Rediscoveries Thrift Shop - 126 West Cook Street\n\nFancy Pants & Smart Woman - 124 West Cook Street\n\nPortage Area Chamber of Commerce  - 104 West Cook Street\n\nFrost Dragon Market - 210 West Cook Street\n\nBrothers - 220 West Cook Street\n\nDouglas' Big Dog Saloon - 218 West Cook Street\n\nDeWitt Street Nutrition - 313 DeWitt Street\n\nDesigned to be Aligned - 322 DeWitt Street\n\nFort Winnebago Masonic Lodge   205 DeWitt Street \n\nMain Street Consignment - 13 Main Street\n\nWilz Hometown Pharmacy - 140 East Cook Street\n\nLegacy's   112 East Cook Street (see Encapsys at this location)\n\nPortage Elks Lodge - 201 West Conant Street\n\nRiver Haven Admin Office - 303 East Wisconsin Street (in front of Cochrane Court) \n\n\n\nSouthside Area\n\nBliffert Lumber & Design - 1009 East Wisconsin Street \n\nReStore - Habitat for Humanity Wisconsin River Area - 1450 East Wisconsin Street
X-ALT-DESC;FMTTYPE=text/html:<p data-end="209" data-start="132">&#127875\; <strong data-end="204" data-start="135">Portage&rsquo\;s Business Trick-or-Treat Spooktacular &amp\; Costume Contest!</strong> &#127875\;</p>\n\n<p data-end="379" data-start="211">&#128197\; <strong data-end="223" data-start="214">Date:</strong> Saturday\, October 25\, 2025<br data-end="253" data-start="250" />\n&#9200\; <strong data-end="264" data-start="255">Time:</strong> 9:00am &ndash\; 10:30am<br data-end="284" data-start="281" />\n&#128205\; <strong data-end="300" data-start="287">Location:</strong> Commerce Plaza for Costume Contest &amp\; Participating Businesses across Portage</p>\n\n<p data-end="602" data-start="381">Kick off your Halloween fun with the <strong data-end="455" data-start="418">Boys &amp\; Girls Club Costume Contest</strong> at 9am in Commerce Plaza! Kids can show off their spookiest\, silliest\, or most creative costumes\, with prizes awarded in various age categories.</p>\n\n<p data-end="838" data-start="604">After the contest\, head out for <strong data-end="677" data-start="636">trick-or-treating at local businesses</strong> throughout Portage. This <strong data-end="734" data-start="703">FREE\, family-friendly event</strong> is the perfect way to celebrate Halloween\, support local shops\, and enjoy a safe and festive morning.</p>\n\n<p data-end="958" data-start="840">&#128123\; Dress up\, bring your treat bags\, and explore all the fun Portage has to offer&mdash\;we can&rsquo\;t wait to see your costumes!</p>\n\n<p data-end="1014" data-start="960">&#10024\;Participating businesses include:<br />\n<br />\n<span style="font-size:14px\;"><span style="font-family:arial\;"><u>Northside Area</u><br />\nCommunity Bank of Portage - 2930 New Pinery Road<br />\nM&amp\;M Tackle It Bait Shop - 2830 New Pinery Road\, Suite 12<br />\nU.S. Bank - 2848 New Pinery Road<br />\n<br />\n<u>Downtown Area</u><br />\nCutting Edge Insurance Agency&nbsp\;- 109 West Cook Street<br />\nThe Mercantile - 117 West Cook Street<br />\nUptown Exchange &nbsp\;- 119 West Cook Street<br />\nForever Yours Jewelry - 123 West Cook Street<br />\nR. Condon Gallery &amp\; Custom Framery - 136 West Cook Street<br />\n<span data-olk-copy-source="MailCompose">Portage Craft Mall - 126 West Cook Street<br />\nRustic Rediscoveries Thrift Shop - 126 West Cook Street</span><br />\nFancy Pants &amp\; Smart Woman - 124 West Cook Street<br />\nPortage Area Chamber of Commerce&nbsp\; - 104 West Cook Street<br />\nFrost Dragon Market&nbsp\;- 210 West Cook Street<br />\nBrothers - 220 West Cook Street<br />\nDouglas&#39\; Big Dog Saloon - 218 West&nbsp\;Cook Street<br />\nDeWitt Street Nutrition - 313 DeWitt Street<br />\nDesigned to be Aligned - 322 DeWitt Street<br />\nFort Winnebago Masonic Lodge &ndash\; 205 DeWitt Street&nbsp\;<br />\nMain Street Consignment - 13 Main Street<br />\nWilz Hometown Pharmacy - 140 East Cook Street<br />\nLegacy&rsquo\;s &ndash\; 112 East Cook Street (see Encapsys at this location)<br />\nPortage Elks Lodge - 201 West Conant Street<br />\nRiver Haven Admin Office&nbsp\;- 303 East Wisconsin Street (in front of Cochrane Court)&nbsp\;<br />\n<br />\n<u>Southside Area</u><br />\nBliffert Lumber &amp\; Design - 1009 East Wisconsin Street&nbsp\;<br />\nReStore - Habitat for Humanity Wisconsin River Area - 1450 East Wisconsin Street</span></span><br />\n&nbsp\;</p>\n
LOCATION:
UID:e.374.36747
SEQUENCE:3
DTSTAMP:20260423T033504Z
URL:http://chamber.portagewi.com/events/details/business-trick-or-treat-spooktacular-36747
END:VEVENT

END:VCALENDAR
