BEGIN:VCALENDAR
VERSION:2.0
PRODID:-//ChamberMaster//Event Calendar 2.0//EN
METHOD:PUBLISH
X-PUBLISHED-TTL:P3D
REFRESH-INTERVAL:P3D
CALSCALE:GREGORIAN
BEGIN:VEVENT
DTSTART:20261024T140000Z
DTEND:20261024T153000Z
X-MICROSOFT-CDO-ALLDAYEVENT:FALSE
SUMMARY:Business Trick or Treat Spooktacular
DESCRIPTION:Portage's Business Trick-or-Treat Spooktacular & Costume Contest!  \n\n  Date: Saturday\, October 24\, 2026\n\n  Time: 9:00am   10:30am\n\n  Location: Commerce Plaza for Costume Contest & Participating Businesses across Portage\n\nKick off your Halloween fun with the Boys & Girls Club Costume Contest at 9am in Commerce Plaza! Kids can show off their spookiest\, silliest\, or most creative costumes\, with prizes awarded in various age categories.\n\nAfter the contest\, head out for trick-or-treating at local businesses throughout Portage. This FREE\, family-friendly event is the perfect way to celebrate Halloween\, support local shops\, and enjoy a safe and festive morning.\n\n  Dress up\, bring your treat bags\, and explore all the fun Portage has to offer we can't wait to see your costumes!\n\n Participating businesses TBA:
X-ALT-DESC;FMTTYPE=text/html:<p data-end="209" data-start="132">&#127875\; <strong data-end="204" data-start="135">Portage&rsquo\;s Business Trick-or-Treat Spooktacular &amp\; Costume Contest!</strong> &#127875\;</p>\n\n<p data-end="379" data-start="211">&#128197\; <strong data-end="223" data-start="214">Date:</strong> Saturday\, October 24\, 2026<br data-end="253" data-start="250" />\n&#9200\; <strong data-end="264" data-start="255">Time:</strong> 9:00am &ndash\; 10:30am<br data-end="284" data-start="281" />\n&#128205\; <strong data-end="300" data-start="287">Location:</strong> Commerce Plaza for Costume Contest &amp\; Participating Businesses across Portage</p>\n\n<p data-end="602" data-start="381">Kick off your Halloween fun with the <strong data-end="455" data-start="418">Boys &amp\; Girls Club Costume Contest</strong> at 9am in Commerce Plaza! Kids can show off their spookiest\, silliest\, or most creative costumes\, with prizes awarded in various age categories.</p>\n\n<p data-end="838" data-start="604">After the contest\, head out for <strong data-end="677" data-start="636">trick-or-treating at local businesses</strong> throughout Portage. This <strong data-end="734" data-start="703">FREE\, family-friendly event</strong> is the perfect way to celebrate Halloween\, support local shops\, and enjoy a safe and festive morning.</p>\n\n<p data-end="958" data-start="840">&#128123\; Dress up\, bring your treat bags\, and explore all the fun Portage has to offer&mdash\;we can&rsquo\;t wait to see your costumes!</p>\n\n<p data-end="1014" data-start="960">&#10024\;Participating businesses TBA:<br />\n<br />\n&nbsp\;</p>\n
LOCATION:
UID:e.374.40093
SEQUENCE:3
DTSTAMP:20260423T050817Z
URL:http://chamber.portagewi.com/events/details/business-trick-or-treat-spooktacular-40093
END:VEVENT

END:VCALENDAR
