BEGIN:VCALENDAR
VERSION:2.0
PRODID:-//ChamberMaster//Event Calendar 2.0//EN
METHOD:PUBLISH
X-PUBLISHED-TTL:P3D
REFRESH-INTERVAL:P3D
CALSCALE:GREGORIAN
BEGIN:VEVENT
DTSTART;VALUE=DATE:20251008
DTEND;VALUE=DATE:20251009
TRANSP:TRANSPARENT
X-MICROSOFT-CDO-ALLDAYEVENT:TRUE
SUMMARY:Catherine Capellaro exhibit at PCA
DESCRIPTION:Beauty Near and Far:  Wisconsin & Jamaica\n\nBY CATHERINE CAPELLARO\n\nCatherine Capellaro is a writer\, painter\, and musician living in Madison\, Wisconsin. When COVID-19 came\, two of her primary channels of expression   writing for a weekly newspaper and performing with VO5   slammed shut. Not knowing what was coming\, Catherine looked inward. Capellaro has made hundreds of paintings\, many close to home\, and some much farther afield. She is still seeking and striving to capture the light. Sharing these paintings has brought her joy and helped Catherine stay connected to the wonder most felt when in nature.\n\nExhibit on display through OCTOBER 31\, 2025
X-ALT-DESC;FMTTYPE=text/html:Beauty Near and Far:&nbsp\; Wisconsin &amp\; Jamaica<br />\nBY CATHERINE CAPELLARO<br />\nCatherine Capellaro is a writer\, painter\, and musician living in Madison\, Wisconsin. When COVID-19 came\, two of her primary channels of expression &mdash\; writing for a weekly newspaper and performing with VO5 &mdash\; slammed shut. Not knowing what was coming\, Catherine looked inward. Capellaro has made hundreds of paintings\, many close to home\, and some much farther afield. She is still seeking and striving to capture the light. Sharing these paintings has brought her joy and helped Catherine stay connected to the wonder most felt when in nature.<br />\nExhibit on display through OCTOBER 31\, 2025<br />\n&nbsp\;
LOCATION:Portage Center for the Arts 310 E. Cook Street
UID:e.374.38885
SEQUENCE:3
DTSTAMP:20260423T043839Z
URL:http://chamber.portagewi.com/events/details/catherine-capellaro-exhibit-at-pca-10-08-2025-38885
END:VEVENT

END:VCALENDAR
