BEGIN:VCALENDAR
VERSION:2.0
PRODID:-//ChamberMaster//Event Calendar 2.0//EN
METHOD:PUBLISH
X-PUBLISHED-TTL:P3D
REFRESH-INTERVAL:P3D
CALSCALE:GREGORIAN
BEGIN:VEVENT
DTSTART:20260730T203000Z
DTEND:20260802T000000Z
X-MICROSOFT-CDO-ALLDAYEVENT:FALSE
SUMMARY:Celebrity Dunk Tank at Columbia County Fair
DESCRIPTION:PORTAGE KIWANIS FUNDRAISER\n\nStop out at the Columbia County Fair and help the Portage Kiwanis raise some money for children.  Bring some cash and try your hand at 'dunking' these celebrities.  \n"Celebrity" Dunk Tank\n\nColumbia County Fair Kiwanis Dunk Tank\n\nThurs - Saturday from 4pm-8pm in front of the Grandstand.\n\n-----------------------------------------------------------------------------------------------------
X-ALT-DESC;FMTTYPE=text/html:<p><span style="font-size:14px\;"><strong>PORTAGE KIWANIS FUNDRAISER</strong></span></p>\n\n<p><span style="font-size:14px\;">Stop out at the Columbia County Fair and help the Portage Kiwanis raise some money for children.&nbsp\; Bring some cash and try your hand at &#39\;dunking&#39\; these celebrities.&nbsp\; </span></p>\n<span style="font-size:14px\;"><strong>&quot\;Celebrity&quot\; Dunk Tank</strong><br />\n<strong>Columbia County Fair Kiwanis Dunk Tank<br />\nThurs - Saturday from 4pm-8pm in front of the Grandstand.<br />\n-----------------------------------------------------------------------------------------------------</strong></span><br />\n&nbsp\;
LOCATION:Veteran's Memorial Field 300 Superior Street Portage\, Wisconsin
UID:e.374.39304
SEQUENCE:3
DTSTAMP:20260423T002641Z
URL:http://chamber.portagewi.com/events/details/celebrity-dunk-tank-at-columbia-county-fair-39304
END:VEVENT

END:VCALENDAR
