BEGIN:VCALENDAR
VERSION:2.0
PRODID:-//ChamberMaster//Event Calendar 2.0//EN
METHOD:PUBLISH
X-PUBLISHED-TTL:P3D
REFRESH-INTERVAL:P3D
CALSCALE:GREGORIAN
BEGIN:VEVENT
DTSTART:20260203T173000Z
DTEND:20260203T190000Z
X-MICROSOFT-CDO-ALLDAYEVENT:FALSE
SUMMARY:Chamber Business Luncheon Feb 2026
DESCRIPTION:The Portage Area Chamber of Commerce is offering another way to network with your fellow Chamber members and make those important connections that can help you in your business or career. Bring your business cards\, brochures\, or anything you wish to share with other members.\n\n \n\nLuncheon Information\n\nJoin us for a special Chamber Business Luncheon hosted on site at the Portage Curling Club\, as they celebrate an incredible milestone   175 years of history\, tradition\, and community connection right here in Portage.\n\n\n\nMembers of the Portage Curling Club will share highlights from the club's rich past\, including how curling became part of Portage's story\, the role the club has in bringing people together and how they continue today hosting national events right here in Portage. \n\n\n\nAfter lunch\, guests are invited to stick around and step onto the ice for a hands-on curling experience. Club members will be on hand to guide you through the basics\, answer questions\, and let you try it out - no experience needed!  (bring clean athletic shoes and wear clothes that do not shed if you plan to go out on the ice)\n\n\n\nPlan to attend\, learn something new\, and maybe even discover your inner curler!\n\n\n\nLocation:  Portage Curling Club \n\nTime:  Lunch at 11:30AM\, Presentation at Noon\n\nCost: $15 lunch at the door \n\nDate: Tuesday\, February 3\, 2026
X-ALT-DESC;FMTTYPE=text/html:<span style="font-family:arial\;">The Portage Area Chamber of Commerce is offering another way to network with your fellow Chamber members and&nbsp\;make those important connections that can help you&nbsp\;in your&nbsp\;business or career.&nbsp\;Bring your business cards\, brochures\, or anything you wish to share with other members.<br />\n&nbsp\;<br />\n<u>Luncheon Information</u><br />\nJoin us for a special Chamber Business Luncheon hosted on site at the Portage&nbsp\;Curling Club\, as they celebrate an incredible milestone &mdash\; 175 years of history\, tradition\, and community connection&nbsp\;right here in Portage.<br />\n<br />\nMembers of the Portage&nbsp\;Curling Club will share highlights from the club&rsquo\;s rich past\, including how&nbsp\;curling became part of Portage&rsquo\;s story\, the role the club has in bringing people together and how they continue today hosting national events right here in Portage.&nbsp\;<br />\n<br />\nAfter lunch\, guests are invited to stick around and step onto the ice for a hands-on&nbsp\;curling experience. Club members will be on hand to guide you through the basics\, answer questions\, and let you try it out - no experience needed!&nbsp\; (</span><!--StartFragment--><span data-olk-copy-source="MessageBody">bring clean athletic shoes and wear clothes that do not shed</span><!--EndFragment-->&nbsp\;if you plan to go out on the ice)<br />\n<br />\n<span style="font-family:arial\;">Plan to attend\, learn something new\, and maybe even discover your inner&nbsp\;curler!<br />\n<br />\nLocation:&nbsp\; Portage Curling Club&nbsp\;<br />\nTime:&nbsp\; Lunch at 11:30AM\,&nbsp\;Presentation&nbsp\;at Noon<br />\nCost: $15 lunch at the door&nbsp\;<br />\nDate: Tuesday\, February 3\, 2026&nbsp\;</span><br />\n&nbsp\;
LOCATION:Portage Curling Club 107 West Albert Street Portage\, WI 53901
UID:e.374.39705
SEQUENCE:3
DTSTAMP:20260424T123339Z
URL:http://chamber.portagewi.com/events/details/chamber-business-luncheon-feb-2026-39705
END:VEVENT

END:VCALENDAR
