BEGIN:VCALENDAR
VERSION:2.0
PRODID:-//ChamberMaster//Event Calendar 2.0//EN
METHOD:PUBLISH
X-PUBLISHED-TTL:P3D
REFRESH-INTERVAL:P3D
CALSCALE:GREGORIAN
BEGIN:VEVENT
DTSTART:20250701T163000Z
DTEND:20250701T180000Z
X-MICROSOFT-CDO-ALLDAYEVENT:FALSE
SUMMARY:Chamber Business Luncheon July 2025
DESCRIPTION:The Portage Area Chamber of Commerce is offering another way to network with your fellow Chamber members and make those important connections that can help you in your business or career. Bring your business cards\, brochures\, or anything you wish to share with other members.\n\n \n\nLuncheon Information\n\n\n\nJoin us for the next Portage Chamber Luncheon at the Portage Public Library as we dive into the timely and thought-provoking topic of banned books. Whitney Parrillo\, Adult Services Librarian will lead a discussion on the history of book banning\, the types of titles that are most often challenged\, and how these efforts impact access in our communities.\n\nEnjoy lunch\, connect with fellow Chamber members\, and walk away with a deeper understanding of how libraries navigate the complex conversation around censorship and education.\n\n\n\n\nLocation:  Portage Public Library\n\nTime:  Lunch at 11:30AM\, Presentation at Noon\n\nCost: $15 at the door for your lunch \n\nDate: Tuesday\, July 1\, 2025
X-ALT-DESC;FMTTYPE=text/html:<div><span style="font-size:14px\;"><span style="font-family:arial\;">The Portage Area Chamber of Commerce is offering another way to network with your fellow Chamber members and&nbsp\;make those important connections that can help you&nbsp\;in your&nbsp\;business or career.&nbsp\;Bring your business cards\, brochures\, or anything you wish to share with other members.</span></span></div>\n\n<div>&nbsp\;</div>\n\n<div><span style="font-size:14px\;"><span style="font-family:arial\;"><u>Luncheon Information</u></span></span>\n\n<div color:="" font-feature-settings:="" font-kerning:="" font-optical-sizing:="" font-variation-settings:="" helvetica="" margin:="" padding:="" segoe="" style="border: 0px\; font-variant-numeric: inherit\; font-variant-east-asian: inherit\; font-variant-alternates: inherit\; font-variant-position: inherit\; font-stretch: inherit\; font-size: 15px\; line-height: inherit\; font-family: " ui="" vertical-align:="" web="" west="">\n<div data-olk-copy-source="MessageBody" style="border: 0px\; font: inherit\; margin: 0px\; padding: 0px\; vertical-align: baseline\; color: inherit\;">\n<p data-end="145" data-start="94"><span style="font-size:14px\;"><span style="font-family:arial\;">Join us for the next Portage Chamber Luncheon at the Portage Public Library as we dive into the timely and thought-provoking topic of <strong data-end="297" data-start="281">banned books</strong>. Whitney Parrillo\, Adult Services Librarian will lead a discussion on the history of book banning\, the types of titles that are most often challenged\, and how these efforts impact access in our communities.</span></span></p>\n\n<p data-end="660" data-start="517"><span style="font-size:14px\;"><span style="font-family:arial\;">Enjoy lunch\, connect with fellow Chamber members\, and walk away with a deeper understanding of how libraries navigate the complex conversation around censorship and education.</span></span></p>\n</div>\n\n<p class="x_MsoNormal" style="margin: 0in\; font-size: 12pt\; font-family: Aptos\, sans-serif\; color: rgb(36\, 36\, 36)\;"><br />\n<span style="font-size:14px\;"><span style="font-family:arial\;">Location:&nbsp\; Portage Public Library</span></span></p>\n\n<div><span style="font-size:14px\;"><span style="font-family:arial\;">Time:&nbsp\; Lunch at 11:30AM\,&nbsp\;Presentation&nbsp\;at Noon<br />\nCost: $15&nbsp\;at the door for your lunch&nbsp\;<br />\nDate: Tuesday\, July 1\, 2025&nbsp\;</span></span></div>\n</div>\n</div>\n
LOCATION:Portage Public Library 253 West Edgewater Street Portage\, WI 53901
UID:e.374.37812
SEQUENCE:3
DTSTAMP:20260423T090721Z
URL:http://chamber.portagewi.com/events/details/chamber-business-luncheon-july-2025-37812
END:VEVENT

END:VCALENDAR
