BEGIN:VCALENDAR
VERSION:2.0
PRODID:-//ChamberMaster//Event Calendar 2.0//EN
METHOD:PUBLISH
X-PUBLISHED-TTL:P3D
REFRESH-INTERVAL:P3D
CALSCALE:GREGORIAN
BEGIN:VEVENT
DTSTART:20251106T223000Z
DTEND:20251107T003000Z
X-MICROSOFT-CDO-ALLDAYEVENT:FALSE
SUMMARY:Chat & Create
DESCRIPTION:Meet us at the Library to Chat & Create. Coffee and snacks provided. You bring along good conversation and a project to enjoy.
X-ALT-DESC;FMTTYPE=text/html:Meet us at the Library to Chat &amp\; Create. Coffee and snacks provided. You bring along good conversation and a project to enjoy.
LOCATION:Portage Public Library 253 W. Edgewater Street
UID:e.374.39282
SEQUENCE:3
DTSTAMP:20260423T015458Z
URL:http://chamber.portagewi.com/events/details/chat-create-39282
END:VEVENT

END:VCALENDAR
