BEGIN:VCALENDAR
VERSION:2.0
PRODID:-//ChamberMaster//Event Calendar 2.0//EN
METHOD:PUBLISH
X-PUBLISHED-TTL:P3D
REFRESH-INTERVAL:P3D
CALSCALE:GREGORIAN
BEGIN:VEVENT
DTSTART:20261031T210000Z
DTEND:20261101T000000Z
X-MICROSOFT-CDO-ALLDAYEVENT:FALSE
SUMMARY:Citywide Trick or Treating
DESCRIPTION:Citywide Trick or Treating in Portage from 4pm-7pm. \n\nTurn on your outdoor porch light if you are planning to participate.
X-ALT-DESC;FMTTYPE=text/html:<div><span style="font-size: 16px\;"><span style="font-family: arial\;">Citywide Trick or Treating in Portage from 4pm-7pm.&nbsp\;<br />\nTurn on your outdoor porch light if you are planning to participate.</span></span><br />\n<br />\n<br />\n<br />\n<br />\n<br />\n<br />\n&nbsp\;</div>\n
LOCATION:
UID:e.374.39675
SEQUENCE:3
DTSTAMP:20260423T050624Z
URL:http://chamber.portagewi.com/events/details/citywide-trick-or-treating-39675
END:VEVENT

END:VCALENDAR
