BEGIN:VCALENDAR
VERSION:2.0
PRODID:-//ChamberMaster//Event Calendar 2.0//EN
METHOD:PUBLISH
X-PUBLISHED-TTL:P3D
REFRESH-INTERVAL:P3D
CALSCALE:GREGORIAN
BEGIN:VEVENT
DTSTART:20260318T140000Z
DTEND:20260318T150000Z
X-MICROSOFT-CDO-ALLDAYEVENT:FALSE
SUMMARY:Coffee Club at Portage Library
DESCRIPTION:Coffee Club\n\nJoin Klay Vehring\, Financial Planner\, for Coffee Club at the Portage Public Library\, 253 W. Edgewater Street. We will enjoy a cup of coffee\, donuts and discuss a variety of interesting topics each month. Please sign up in advance at 608-742-4959.
X-ALT-DESC;FMTTYPE=text/html:<strong>Coffee Club</strong><br />\nJoin Klay Vehring\, Financial Planner\, for Coffee Club at the Portage Public Library\, 253 W. Edgewater Street. We will enjoy a cup of coffee\, donuts and discuss a variety of interesting topics each month. Please sign up in advance at 608-742-4959.
LOCATION:
UID:e.374.40107
SEQUENCE:3
DTSTAMP:20260422T225347Z
URL:http://chamber.portagewi.com/events/details/coffee-club-at-portage-library-40107
END:VEVENT

END:VCALENDAR
