BEGIN:VCALENDAR
VERSION:2.0
PRODID:-//ChamberMaster//Event Calendar 2.0//EN
METHOD:PUBLISH
X-PUBLISHED-TTL:P3D
REFRESH-INTERVAL:P3D
CALSCALE:GREGORIAN
BEGIN:VEVENT
DTSTART;VALUE=DATE:20251108
DTEND;VALUE=DATE:20251129
TRANSP:TRANSPARENT
X-MICROSOFT-CDO-ALLDAYEVENT:TRUE
SUMMARY:Colorful Fabric Images exhibit at PCA
DESCRIPTION:Colorful Fabric Images exhibit by Trish Trinrud on display in the Drury Gallery inside Portage Center for the Arts.\n\n\n\nTrish Trinrud and her husband moved to Portage in 1977 and were teachers until their retirement. Trish began making fabric canvases in 2020 when COVID-19 left most of us locked down\, and she needed something to occupy her time. Trinrud uses contrasting colors as it appear more abstract. She uses bright colors because they bring smiles and joy to those who observe them.\n\nSponsored by Jim & Colleen Murphy!\n\nNov 7 2025 - Nov 28\, 2025. The Drury Gallery is open Wed-Fri 1-6pm and Sat 10am-3pm
X-ALT-DESC;FMTTYPE=text/html:<div class="x14z9mp xat24cr x1lziwak x1vvkbs xtlvy1s" style="overflow-wrap: break-word\; margin-top: 0.5em\; margin-inline: 0px\; margin-bottom: 0px\; font-family: &quot\;Segoe UI Historic&quot\;\, &quot\;Segoe UI&quot\;\, Helvetica\, Arial\, sans-serif\; color: rgb(8\, 8\, 9)\; font-size: 14px\;"><span style="color: rgb(8\, 8\, 9)\; font-family: &quot\;Segoe UI Historic&quot\;\, &quot\;Segoe UI&quot\;\, Helvetica\, Arial\, sans-serif\; font-size: 14px\;">Colorful Fabric Images exhibit by Trish Trinrud on display in the Drury Gallery inside Portage Center for the Arts.</span><br />\n<br />\nTrish Trinrud and her husband moved to Portage in 1977 and were teachers until their retirement. Trish began making fabric canvases in 2020 when COVID-19 left most of us locked down\, and she needed something to occupy her time. Trinrud uses contrasting colors as it appear more abstract. She uses bright colors because they bring smiles and joy to those who observe them.</div>\n\n<div class="x14z9mp xat24cr x1lziwak x1vvkbs xtlvy1s" style="overflow-wrap: break-word\; margin-top: 0.5em\; margin-inline: 0px\; margin-bottom: 0px\; font-family: &quot\;Segoe UI Historic&quot\;\, &quot\;Segoe UI&quot\;\, Helvetica\, Arial\, sans-serif\; color: rgb(8\, 8\, 9)\; font-size: 14px\;">Sponsored by Jim &amp\; Colleen Murphy!</div>\n\n<div class="x14z9mp xat24cr x1lziwak x1vvkbs xtlvy1s" style="overflow-wrap: break-word\; margin-top: 0.5em\; margin-inline: 0px\; margin-bottom: 0px\; font-family: &quot\;Segoe UI Historic&quot\;\, &quot\;Segoe UI&quot\;\, Helvetica\, Arial\, sans-serif\; color: rgb(8\, 8\, 9)\; font-size: 14px\;">Nov 7 2025 - Nov 28\, 2025. The Drury Gallery is open Wed-Fri 1-6pm and Sat 10am-3pm</div>\n
LOCATION:Portage Center for the Arts 301 E Cook Street\, Portage\, WI 53901
UID:e.374.39384
SEQUENCE:3
DTSTAMP:20260423T020018Z
URL:http://chamber.portagewi.com/events/details/colorful-fabric-images-exhibit-at-pca-39384
END:VEVENT

END:VCALENDAR
