BEGIN:VCALENDAR
VERSION:2.0
PRODID:-//ChamberMaster//Event Calendar 2.0//EN
METHOD:PUBLISH
X-PUBLISHED-TTL:P3D
REFRESH-INTERVAL:P3D
CALSCALE:GREGORIAN
BEGIN:VEVENT
DTSTART;VALUE=DATE:20251101
DTEND;VALUE=DATE:20251201
TRANSP:TRANSPARENT
X-MICROSOFT-CDO-ALLDAYEVENT:TRUE
SUMMARY:Community Food Drive supporting Portage Food Pantry
DESCRIPTION:Community Food Drive supporting Portage Food Pantry\n\nDrop off donations at Portage Public Library\, 253 W. Edgewater Street\, November 1st-30th\, 2025\n\n\n\nSupport your neighbors this season with donations of canned goods\, cereals\, rice\, potatoes\, pancake mixes\, boxed dinners\, microwave meals\, snacks\, juice\, peanut butter\, jelly\, seasonings\, coffee\, tea\, powdered milk\, personal care & hygiene items\, dish soap\, laundry soap.
X-ALT-DESC;FMTTYPE=text/html:<strong>Community Food Drive supporting Portage Food Pantry</strong><br />\n<em>Drop off donations at Portage Public Library\, 253 W. Edgewater Street\, November 1st-30th\, 2025</em><br />\n<br />\nSupport your neighbors this season with donations of canned goods\, cereals\, rice\, potatoes\, pancake mixes\, boxed dinners\, microwave meals\, snacks\, juice\, peanut butter\, jelly\, seasonings\, coffee\, tea\, powdered milk\, personal care &amp\; hygiene items\, dish soap\, laundry soap.<br />\n&nbsp\;
LOCATION:
UID:e.374.39355
SEQUENCE:3
DTSTAMP:20260423T020327Z
URL:http://chamber.portagewi.com/events/details/community-food-drive-supporting-portage-food-pantry-39355
END:VEVENT

END:VCALENDAR
