BEGIN:VCALENDAR
VERSION:2.0
PRODID:-//ChamberMaster//Event Calendar 2.0//EN
METHOD:PUBLISH
X-PUBLISHED-TTL:P3D
REFRESH-INTERVAL:P3D
CALSCALE:GREGORIAN
BEGIN:VEVENT
DTSTART:20250806T233000Z
DTEND:20250807T013000Z
X-MICROSOFT-CDO-ALLDAYEVENT:FALSE
SUMMARY:Concerts at the Portage
DESCRIPTION:Grab your lawn chair or blanket and come enjoy Concerts at the Portage Wednesday evening concert series. The concerts take place on a stage behind the Portage VFW located at 215 W. Collins Street (behind Walgreen's). Desserts are served by a local non-profit as a fundraiser.\n\nJune 4 - Portage High School Band & Bartels Middle School Band\n\nJune 11 - Nite Fire\n\nJune 18 - Country Renegades\n\nJune 25 - Midnight Angel\n\nJuly 2 - Late 4 Dinner\n\nJuly 9 - The Big Deal\n\nJuly 16 - Back Alley Kings\n\nJuly 23 - Best Practice\n\nJuly 30 - Universal Sound\n\nAugust 6 - The CarTunes\n\nAugust 13 - MadCity Radiators\n\nAugust 20 - Swing Crew\n\nAugust 27 - Chris Kroeze and his band
X-ALT-DESC;FMTTYPE=text/html:<div -webkit-text-stroke-width:="" background-color:="" class="xdj266r x11i5rnm xat24cr x1mh8g0r x1vvkbs x126k92a" color:="" font-size:="" font-style:="" font-variant-caps:="" font-variant-ligatures:="" font-weight:="" letter-spacing:="" orphans:="" segoe="" style="margin: 0px\; overflow-wrap: break-word\; white-space: pre-wrap\; font-family: " text-align:="" text-decoration-color:="" text-decoration-style:="" text-decoration-thickness:="" text-indent:="" text-transform:="" ui="" widows:="" word-spacing:="">\n<p dir="auto" style="font-family: inherit\;"><span style="font-size:14px\;"><span style="font-family:arial\;">Grab your lawn chair or blanket and come enjoy Concerts at the Portage Wednesday evening concert series. The concerts take place on a stage behind the Portage VFW located at 215 W. Collins Street (behind Walgreen&#39\;s). Desserts are served by a local non-profit as a fundraiser.<br />\nJune 4 - Portage High School Band &amp\; Bartels Middle School Band</span></span><br />\n<span style="font-size:14px\;"><span style="font-family:arial\;">June 11 - Nite Fire<br />\nJune 18 - Country Renegades<br />\nJune 25 - Midnight Angel<br />\nJuly 2 - Late 4 Dinner<br />\nJuly 9 - The Big Deal<br />\nJuly 16 - Back Alley Kings<br />\nJuly 23 - Best Practice<br />\nJuly 30 - Universal Sound<br />\nAugust 6 - The CarTunes<br />\nAugust 13 - MadCity Radiators<br />\nAugust 20 - Swing Crew<br />\nAugust 27 - Chris Kroeze and his band</span></span></p>\n</div>\n
LOCATION:Held at the stage behind Portage VFW\, 215 W. Collins Street
UID:e.374.37288
SEQUENCE:3
DTSTAMP:20260423T094256Z
URL:http://chamber.portagewi.com/events/details/concerts-at-the-portage-08-06-2025-37288
END:VEVENT

END:VCALENDAR
