BEGIN:VCALENDAR
VERSION:2.0
PRODID:-//ChamberMaster//Event Calendar 2.0//EN
METHOD:PUBLISH
X-PUBLISHED-TTL:P3D
REFRESH-INTERVAL:P3D
CALSCALE:GREGORIAN
BEGIN:VEVENT
DTSTART:20220131T230000Z
DTEND:20220201T020000Z
X-MICROSOFT-CDO-ALLDAYEVENT:FALSE
SUMMARY:Culver's Share Night - raising funds for new Boys & Girls Club - Portage
DESCRIPTION:Culver's Share Night \n\nMonday\, January 31 from 5pm to 8pm\n\nHelp raise funds to create a new Boys & Girls Club in Portage \n\n(Drive-thru & Restaurant)\n\n2733 New Pinery Road
X-ALT-DESC;FMTTYPE=text/html:<strong>Culver&#39\;s Share Night&nbsp\;</strong><br />\nMonday\, January 31 from 5pm to 8pm<br />\nHelp raise funds to create a new Boys &amp\; Girls Club in Portage&nbsp\;<br />\n(Drive-thru &amp\; Restaurant)<br />\n2733 New Pinery Road
LOCATION:
UID:e.374.29207
SEQUENCE:3
DTSTAMP:20260424T050858Z
URL:http://chamber.portagewi.com/events/details/culver-s-share-night-raising-funds-for-new-boys-girls-club-portage-29207
END:VEVENT

END:VCALENDAR
