BEGIN:VCALENDAR
VERSION:2.0
PRODID:-//ChamberMaster//Event Calendar 2.0//EN
METHOD:PUBLISH
X-PUBLISHED-TTL:P3D
REFRESH-INTERVAL:P3D
CALSCALE:GREGORIAN
BEGIN:VEVENT
DTSTART:20250921T140000Z
DTEND:20250921T190000Z
X-MICROSOFT-CDO-ALLDAYEVENT:FALSE
SUMMARY:DeWitt Street Nutrition Grand Opening
DESCRIPTION:Opening this Sunday September 21st!\n\nWe've got local giveaways\, delicious drinks\, and a space where you can hang out\, ask questions\, and learn all about our mission: making Portage a healthier + happier place
X-ALT-DESC;FMTTYPE=text/html:<div class="xdj266r x14z9mp xat24cr x1lziwak x1vvkbs" color:="" font-size:="" segoe="" style="overflow-wrap: break-word\; margin-inline: 0px\; margin-bottom: 0px\; margin-top: 0px\; font-family: " ui="">Opening this Sunday September 21st!</div>\n\n<div class="x14z9mp xat24cr x1lziwak x1vvkbs xtlvy1s" color:="" font-size:="" segoe="" style="overflow-wrap: break-word\; margin-top: 0.5em\; margin-inline: 0px\; margin-bottom: 0px\; font-family: " ui="">We&rsquo\;ve got local giveaways\, delicious drinks\, and a space where you can hang out\, ask questions\, and learn all about our mission: making Portage a healthier + happier place</div>\n
LOCATION:313 DeWitt Street Portage\, WI 53901
UID:e.374.38921
SEQUENCE:3
DTSTAMP:20260423T075728Z
URL:http://chamber.portagewi.com/events/details/dewitt-street-nutrition-grand-opening-38921
END:VEVENT

END:VCALENDAR
