BEGIN:VCALENDAR
VERSION:2.0
PRODID:-//ChamberMaster//Event Calendar 2.0//EN
METHOD:PUBLISH
X-PUBLISHED-TTL:P3D
REFRESH-INTERVAL:P3D
CALSCALE:GREGORIAN
BEGIN:VEVENT
DTSTART;VALUE=DATE:20250915
DTEND;VALUE=DATE:20251001
TRANSP:TRANSPARENT
X-MICROSOFT-CDO-ALLDAYEVENT:TRUE
SUMMARY:Diaper Drive hosted by Columbia County Public Health
DESCRIPTION:Donate to the Columbia County Public Health Diaper Drive. We will be collecting diapers and wipes\, please consider donating any unopened packages of diapers and wipes. Major needs are wipes and sizes 4\,5\,6\, & 7. Drop-off at Columbia County HHS. Thanks for your support!\n\n\n\nFor more information or donation pick-up contact: MiKayla Olson BSN\, RN\, CPST 608-697-0565\n\ndiv.of.health@columbiacountywi.gov
X-ALT-DESC;FMTTYPE=text/html:Donate to the Columbia County Public Health Diaper Drive. We will be collecting diapers and wipes\, please consider donating any unopened packages of diapers and wipes. Major needs are wipes and sizes 4\,5\,6\, &amp\; 7. Drop-off at Columbia County HHS. Thanks for your support!<br />\n<br />\nFor more information or donation pick-up contact: MiKayla Olson BSN\, RN\, CPST 608-697-0565<br />\ndiv.of.health@columbiacountywi.gov
LOCATION:Columbia County HHS 111 East Mullett Street\, Portage\, WI 53901
UID:e.374.38913
SEQUENCE:3
DTSTAMP:20260423T080224Z
URL:http://chamber.portagewi.com/events/details/diaper-drive-hosted-by-columbia-county-public-health-38913
END:VEVENT

END:VCALENDAR
