BEGIN:VCALENDAR
VERSION:2.0
PRODID:-//ChamberMaster//Event Calendar 2.0//EN
METHOD:PUBLISH
X-PUBLISHED-TTL:P3D
REFRESH-INTERVAL:P3D
CALSCALE:GREGORIAN
BEGIN:VEVENT
DTSTART;VALUE=DATE:20190303
DTEND;VALUE=DATE:20190304
TRANSP:TRANSPARENT
X-MICROSOFT-CDO-ALLDAYEVENT:TRUE
SUMMARY:Dixieland Jazz Worship Service
DESCRIPTION:10:05 AM\n\n"Dixieland Worship Service" @ Portage Presbyterian Church.\n\nCome and share in this uplifting and inspirational worship experience accompanied with a live dixieland band.  Following worship all are invited to a potluck lunch with a rousing game of bingo after.  All are invited. We would love to have you join us for this day.\n\n\n\n"The Portage Presbyterian Church - A Place For Everybody."
X-ALT-DESC;FMTTYPE=text/html:<p><span style="font-size: 16px\;"><span style="font-family: arial\;">10:05 AM<br />\n&quot\;Dixieland Worship Service&quot\; @ Portage Presbyterian Church.<br />\nCome and share in this uplifting and inspirational worship experience accompanied with a live dixieland band.&nbsp\; Following worship all are invited to a potluck lunch with a rousing game of bingo after.&nbsp\; All are invited. We would love to have you join us for this day.<br />\n<br />\n&quot\;The Portage Presbyterian Church - A Place For Everybody.&quot\;</span></span><br />\n&nbsp\;</p>\n<br />\n<br />\n<span style="font-size: 12px\;"><span style="font-family: arial\;">&nbsp\;</span></span>
LOCATION:Portage Presbyterian Church 120 West Pleasant Street Portage\, WI 53901
UID:e.374.25649
SEQUENCE:3
DTSTAMP:20260421T220139Z
URL:http://chamber.portagewi.com/events/details/dixieland-jazz-worship-service-25649
END:VEVENT

END:VCALENDAR
