BEGIN:VCALENDAR
VERSION:2.0
PRODID:-//ChamberMaster//Event Calendar 2.0//EN
METHOD:PUBLISH
X-PUBLISHED-TTL:P3D
REFRESH-INTERVAL:P3D
CALSCALE:GREGORIAN
BEGIN:VEVENT
DTSTART:20190414T180000Z
DTEND:20190414T200000Z
X-MICROSOFT-CDO-ALLDAYEVENT:FALSE
SUMMARY:Easter Family Fun Day
DESCRIPTION:Join the Portage Park & Rec Department for our 2nd Annual Easter Family Fun Day! Kids will have a blast decorating eggs\, designing their own Easter Bags\, and playing lots of Easter and Spring themed games!
X-ALT-DESC;FMTTYPE=text/html:<span style="font-size: 14px\;">Join the Portage Park &amp\; Rec Department for our 2nd Annual Easter Family Fun Day! Kids will have a blast decorating eggs\, designing their own Easter Bags\, and playing lots of Easter and Spring themed games!</span>
LOCATION:Bartels Middle School Cafeteria
UID:e.374.25775
SEQUENCE:3
DTSTAMP:20260421T122614Z
URL:http://chamber.portagewi.com/events/details/easter-family-fun-day-25775
END:VEVENT

END:VCALENDAR
