BEGIN:VCALENDAR
VERSION:2.0
PRODID:-//ChamberMaster//Event Calendar 2.0//EN
METHOD:PUBLISH
X-PUBLISHED-TTL:P3D
REFRESH-INTERVAL:P3D
CALSCALE:GREGORIAN
BEGIN:VEVENT
DTSTART;VALUE=DATE:20241105
DTEND;VALUE=DATE:20241106
TRANSP:TRANSPARENT
X-MICROSOFT-CDO-ALLDAYEVENT:TRUE
SUMMARY:Election Day Special - Free Yoga All Day
DESCRIPTION:Enjoy Free Yoga All Day during this Election Day Special at Bee Alive Yoga!
X-ALT-DESC;FMTTYPE=text/html:Enjoy Free Yoga All Day during this Election Day Special at Bee Alive Yoga!
LOCATION:230 W. Wisconsin St.
UID:e.374.36005
SEQUENCE:3
DTSTAMP:20260423T211514Z
URL:http://chamber.portagewi.com/events/details/election-day-special-free-yoga-all-day-36005
END:VEVENT

END:VCALENDAR
