BEGIN:VCALENDAR
VERSION:2.0
PRODID:-//ChamberMaster//Event Calendar 2.0//EN
METHOD:PUBLISH
X-PUBLISHED-TTL:P3D
REFRESH-INTERVAL:P3D
CALSCALE:GREGORIAN
BEGIN:VEVENT
DTSTART;VALUE=DATE:20241103
DTEND;VALUE=DATE:20241104
TRANSP:TRANSPARENT
X-MICROSOFT-CDO-ALLDAYEVENT:TRUE
SUMMARY:Elks Hoop Shoot
DESCRIPTION:The Portage Elks Lodge #675 is hosting a Hoop Shoot\n\n\n\nHosted on Sunday\, November 3rd\, 2024 at 10a.m. at John Muir Elementary School gym.\n\n\n\nFor kids ages 8-13 as of April 1st\, 2025.\n\n\n\nFor more information\, contact Lisa at 608-683-0908 or lmholmes24@gmail.com!
X-ALT-DESC;FMTTYPE=text/html:<span style="color: rgb(5\, 5\, 5)\; font-family: &quot\;Segoe UI Historic&quot\;\, &quot\;Segoe UI&quot\;\, Helvetica\, Arial\, sans-serif\; font-size: 15px\;">The Portage Elks Lodge #675 is hosting a Hoop Shoot<br />\n<br />\nHosted on Sunday\, November 3rd\, 2024 at 10a.m. at John Muir Elementary School gym.</span><br />\n<br />\n<span style="color: rgb(5\, 5\, 5)\; font-family: &quot\;Segoe UI Historic&quot\;\, &quot\;Segoe UI&quot\;\, Helvetica\, Arial\, sans-serif\; font-size: 15px\;">For kids ages 8-13 as of April 1st\, 2025.</span><br />\n<br class="html-br" style="color: rgb(5\, 5\, 5)\; font-family: &quot\;Segoe UI Historic&quot\;\, &quot\;Segoe UI&quot\;\, Helvetica\, Arial\, sans-serif\; font-size: 15px\;" />\n<span style="color: rgb(5\, 5\, 5)\; font-family: &quot\;Segoe UI Historic&quot\;\, &quot\;Segoe UI&quot\;\, Helvetica\, Arial\, sans-serif\; font-size: 15px\;">For more information\, contact Lisa at 608-683-0908 or lmholmes24@gmail.com!&nbsp\;</span><br />\n<br />\n&nbsp\;
LOCATION:John Muir Elementary School
UID:e.374.35962
SEQUENCE:3
DTSTAMP:20260423T211116Z
URL:http://chamber.portagewi.com/events/details/elks-hoop-shoot-35962
END:VEVENT

END:VCALENDAR
