BEGIN:VCALENDAR
VERSION:2.0
PRODID:-//ChamberMaster//Event Calendar 2.0//EN
METHOD:PUBLISH
X-PUBLISHED-TTL:P3D
REFRESH-INTERVAL:P3D
CALSCALE:GREGORIAN
BEGIN:VEVENT
DTSTART:20220306T213000Z
DTEND:20220307T010000Z
X-MICROSOFT-CDO-ALLDAYEVENT:FALSE
SUMMARY:Elvis Performs at the Portage VFW
DESCRIPTION:Elvis (aka Clyde Masten) will be performing from 3:30pm to 7pm at the Portage VFW Post 1707. A light meal will be available and all your favorite beverages too!
X-ALT-DESC;FMTTYPE=text/html:<span style="font-size:16px\;"><span style="font-family:arial\;">Elvis (aka Clyde Masten) will be performing from 3:30pm to 7pm at the Portage VFW Post 1707. A light meal will be available and all your favorite beverages too!</span></span><br />\n<br />\n<br />\n<br />\n<br />\n&nbsp\;
LOCATION:Portage VFW Post 1707 215 West Collins Stree Portage\, WI 53901
UID:e.374.29387
SEQUENCE:3
DTSTAMP:20260424T074946Z
URL:http://chamber.portagewi.com/events/details/elvis-performs-at-the-portage-vfw-29387
END:VEVENT

END:VCALENDAR
