BEGIN:VCALENDAR
VERSION:2.0
PRODID:-//ChamberMaster//Event Calendar 2.0//EN
METHOD:PUBLISH
X-PUBLISHED-TTL:P3D
REFRESH-INTERVAL:P3D
CALSCALE:GREGORIAN
BEGIN:VEVENT
DTSTART;VALUE=DATE:20251011
DTEND;VALUE=DATE:20251013
TRANSP:TRANSPARENT
X-MICROSOFT-CDO-ALLDAYEVENT:TRUE
SUMMARY:Fall Gun Show
DESCRIPTION:Annual Fall Gun Show. Buy\, Sell\, & Trade. Great deals on guns & related items with delicious food & drinks.  $5 General Admission at the door.\n \nExhibitors: $20/table\, contact Bob Corning 608-617-8388 or 608-429-3649
X-ALT-DESC;FMTTYPE=text/html:Annual Fall Gun Show. Buy\, Sell\, &amp\; Trade. Great deals on guns &amp\; related items with delicious food &amp\; drinks.&nbsp\; $5 General Admission at the door.\n<div class="x_elementToProof" data-olk-copy-source="MessageBody" style="border: 0px\; font-variant-numeric: inherit\; font-variant-east-asian: inherit\; font-variant-alternates: inherit\; font-variant-position: inherit\; font-variant-emoji: inherit\; font-stretch: inherit\; font-size: 12pt\; line-height: inherit\; font-family: Calibri\, Helvetica\, sans-serif\; font-optical-sizing: inherit\; font-size-adjust: inherit\; font-kerning: inherit\; font-feature-settings: inherit\; font-variation-settings: inherit\; margin: 0px\; padding: 0px\; vertical-align: baseline\; color: rgb(0\, 0\, 0)\;">&nbsp\;</div>\nExhibitors: $20/table\, contact Bob Corning 608-617-8388 or 608-429-3649
LOCATION:Portage Rod & Gun Club 1.5 miles west of Portage on Highway 16 W10450 WI-16\, Portage\, WI 53901
UID:e.374.38948
SEQUENCE:3
DTSTAMP:20260423T032932Z
URL:http://chamber.portagewi.com/events/details/fall-gun-show-38948
END:VEVENT

END:VCALENDAR
