BEGIN:VCALENDAR
VERSION:2.0
PRODID:-//ChamberMaster//Event Calendar 2.0//EN
METHOD:PUBLISH
X-PUBLISHED-TTL:P3D
REFRESH-INTERVAL:P3D
CALSCALE:GREGORIAN
BEGIN:VEVENT
DTSTART:20250917T140000Z
DTEND:20250917T200000Z
X-MICROSOFT-CDO-ALLDAYEVENT:FALSE
SUMMARY:Fall Plant Sale
DESCRIPTION:Annual Volunteer Fall Plant Sale\n\nWednesday\, September 17th\n\n9 AM - 3 PM\n\nHospital front entrance\n\n\n\nAspirus Divine Savior Volunteer Services is a non-profit group raising funds for annual scholarships for area high school seniors. Brought to you by Link's Greenhouse.
X-ALT-DESC;FMTTYPE=text/html:<div class="xdj266r x14z9mp xat24cr x1lziwak x1vvkbs x126k92a" style="overflow-wrap: break-word\; white-space-collapse: preserve\; margin-inline: 0px\; margin-bottom: 0px\; margin-top: 0px\; font-family: &quot\;Segoe UI Historic&quot\;\, &quot\;Segoe UI&quot\;\, Helvetica\, Arial\, sans-serif\; color: rgb(8\, 8\, 9)\; font-size: 14px\;">\n<div dir="auto" style="font-family: inherit\;">Annual Volunteer Fall Plant Sale</div>\n\n<div dir="auto" style="font-family: inherit\;">Wednesday\, September 17th</div>\n\n<div dir="auto" style="font-family: inherit\;">9 AM - 3 PM</div>\n\n<div dir="auto" style="font-family: inherit\;">Hospital front entrance</div>\n</div>\n\n<div class="x14z9mp xat24cr x1lziwak x1vvkbs xtlvy1s x126k92a" style="overflow-wrap: break-word\; white-space-collapse: preserve\; margin-top: 0.5em\; margin-inline: 0px\; margin-bottom: 0px\; font-family: &quot\;Segoe UI Historic&quot\;\, &quot\;Segoe UI&quot\;\, Helvetica\, Arial\, sans-serif\; color: rgb(8\, 8\, 9)\; font-size: 14px\;">\n<div dir="auto" style="font-family: inherit\;">Aspirus Divine Savior Volunteer Services is a non-profit group raising funds for annual scholarships for area high school seniors. Brought to you by Link&#39\;s Greenhouse.</div>\n</div>\n
LOCATION:Aspirus Divine Savior Hospital Front Entrance 2817 New Pinery Rd\, Portage\, WI 53901
UID:e.374.38906
SEQUENCE:3
DTSTAMP:20260423T074731Z
URL:http://chamber.portagewi.com/events/details/fall-plant-sale-38906
END:VEVENT

END:VCALENDAR
