BEGIN:VCALENDAR
VERSION:2.0
PRODID:-//ChamberMaster//Event Calendar 2.0//EN
METHOD:PUBLISH
X-PUBLISHED-TTL:P3D
REFRESH-INTERVAL:P3D
CALSCALE:GREGORIAN
BEGIN:VEVENT
DTSTART:20260804T160000Z
DTEND:20260804T210000Z
X-MICROSOFT-CDO-ALLDAYEVENT:FALSE
SUMMARY:Farmers Market at Aspirus Divine Savior
DESCRIPTION:Aspirus Divine Savior Farmer?s Market \n\nFrom fresh produce and flowers\n\nTo baked goods\, jams\, honey\, meats\, and handmade items\n\n \n\n Location: Front Parking Lot (New Pinery Road)\n\n Time: 11 AM ? 4 PM\n\n Market Dates: June 2 ? July 7 ? August 4 ? September 1 ? October 6
X-ALT-DESC;FMTTYPE=text/html:<div class="x_elementToProof" style="border: 0px\; font-style: inherit\; font-variant: inherit\; font-weight: inherit\; font-stretch: inherit\; font-size: 12pt\; line-height: inherit\; font-family: Calibri\, Helvetica\, sans-serif\, serif\, EmojiFont\; font-optical-sizing: inherit\; font-size-adjust: inherit\; font-kerning: inherit\; font-feature-settings: inherit\; font-variation-settings: inherit\; font-language-override: inherit\; margin: 0px 0px 8px\; padding: 0px\; vertical-align: baseline\; color: rgb(0\, 0\, 0)\;"><span data-olk-copy-source="MessageBody" style="border: 0px\; font-style: inherit\; font-variant: inherit\; font-weight: 600\; font-stretch: inherit\; font-size: inherit\; line-height: inherit\; font-family: inherit\; font-optical-sizing: inherit\; font-size-adjust: inherit\; font-kerning: inherit\; font-feature-settings: inherit\; font-variation-settings: inherit\; font-language-override: inherit\; margin: 0px\; padding: 0px\; vertical-align: baseline\; color: inherit\;">Aspirus Divine Savior Farmer?s Market</span>&nbsp\;</div>\n\n<div class="x_elementToProof" style="border: 0px\; font-style: inherit\; font-variant: inherit\; font-weight: inherit\; font-stretch: inherit\; font-size: 12pt\; line-height: inherit\; font-family: Calibri\, Helvetica\, sans-serif\, serif\, EmojiFont\; font-optical-sizing: inherit\; font-size-adjust: inherit\; font-kerning: inherit\; font-feature-settings: inherit\; font-variation-settings: inherit\; font-language-override: inherit\; margin: 0px 0px 8px\; padding: 0px\; vertical-align: baseline\; color: rgb(0\, 0\, 0)\;">From fresh produce and flowers<br />\nTo baked goods\, jams\, honey\, meats\, and handmade items<br />\n&nbsp\;</div>\n\n<div class="x_elementToProof" style="border: 0px\; font-style: inherit\; font-variant: inherit\; font-weight: inherit\; font-stretch: inherit\; font-size: 12pt\; line-height: inherit\; font-family: Calibri\, Helvetica\, sans-serif\, serif\, EmojiFont\; font-optical-sizing: inherit\; font-size-adjust: inherit\; font-kerning: inherit\; font-feature-settings: inherit\; font-variation-settings: inherit\; font-language-override: inherit\; margin: 0px 0px 8px\; padding: 0px\; vertical-align: baseline\; color: rgb(0\, 0\, 0)\;">&nbsp\;<span style="border: 0px\; font-style: inherit\; font-variant: inherit\; font-weight: 600\; font-stretch: inherit\; font-size: inherit\; line-height: inherit\; font-family: inherit\; font-optical-sizing: inherit\; font-size-adjust: inherit\; font-kerning: inherit\; font-feature-settings: inherit\; font-variation-settings: inherit\; font-language-override: inherit\; margin: 0px\; padding: 0px\; vertical-align: baseline\; color: inherit\;">Location:</span>&nbsp\;Front Parking Lot (New Pinery Road)<br />\n&nbsp\;<span style="border: 0px\; font-style: inherit\; font-variant: inherit\; font-weight: 600\; font-stretch: inherit\; font-size: inherit\; line-height: inherit\; font-family: inherit\; font-optical-sizing: inherit\; font-size-adjust: inherit\; font-kerning: inherit\; font-feature-settings: inherit\; font-variation-settings: inherit\; font-language-override: inherit\; margin: 0px\; padding: 0px\; vertical-align: baseline\; color: inherit\;">Time:</span>&nbsp\;11 AM ? 4 PM<br />\n&nbsp\;<span style="border: 0px\; font-style: inherit\; font-variant: inherit\; font-weight: 600\; font-stretch: inherit\; font-size: inherit\; line-height: inherit\; font-family: inherit\; font-optical-sizing: inherit\; font-size-adjust: inherit\; font-kerning: inherit\; font-feature-settings: inherit\; font-variation-settings: inherit\; font-language-override: inherit\; margin: 0px\; padding: 0px\; vertical-align: baseline\; color: inherit\;">Market Dates:&nbsp\;</span>June 2 ? July 7 ? August 4 ? September 1 ? October 6</div>\n\n<div class="x_elementToProof" style="border: 0px\; font-style: inherit\; font-variant: inherit\; font-weight: inherit\; font-stretch: inherit\; font-size: 12pt\; line-height: inherit\; font-family: Calibri\, Helvetica\, sans-serif\, serif\, EmojiFont\; font-optical-sizing: inherit\; font-size-adjust: inherit\; font-kerning: inherit\; font-feature-settings: inherit\; font-variation-settings: inherit\; font-language-override: inherit\; margin: 0px 0px 8px\; padding: 0px\; vertical-align: baseline\; color: rgb(0\, 0\, 0)\;">&nbsp\;</div>\n\n<div class="x_elementToProof" style="border: 0px\; font-style: inherit\; font-variant: inherit\; font-weight: inherit\; font-stretch: inherit\; font-size: 12pt\; line-height: inherit\; font-family: Calibri\, Helvetica\, sans-serif\, serif\, EmojiFont\; font-optical-sizing: inherit\; font-size-adjust: inherit\; font-kerning: inherit\; font-feature-settings: inherit\; font-variation-settings: inherit\; font-language-override: inherit\; margin: 0px 0px 8px\; padding: 0px\; vertical-align: baseline\; color: rgb(0\, 0\, 0)\;">&nbsp\;</div>\n
LOCATION:Aspirus Divine Savior Hospital 2817 New Pinery Road Portage\, WI 53901
UID:e.374.40323
SEQUENCE:3
DTSTAMP:20260422T222533Z
URL:http://chamber.portagewi.com/events/details/farmers-market-at-aspirus-divine-savior-08-04-2026-40323
END:VEVENT

END:VCALENDAR
