BEGIN:VCALENDAR
VERSION:2.0
PRODID:-//ChamberMaster//Event Calendar 2.0//EN
METHOD:PUBLISH
X-PUBLISHED-TTL:P3D
REFRESH-INTERVAL:P3D
CALSCALE:GREGORIAN
BEGIN:VEVENT
DTSTART;VALUE=DATE:20241129
DTEND;VALUE=DATE:20241225
TRANSP:TRANSPARENT
X-MICROSOFT-CDO-ALLDAYEVENT:TRUE
SUMMARY:Food Pantry Donation Sale at Forever Yours Jewelry
DESCRIPTION:Food Pantry Donation Sale\n\nNov. 29-Dec. 24\, 2024\n\nA $10 or more cash donation to the Portage Food Pantry gives 25% off your purchase of in-store merchandise only. Some exclusions apply.\n\nTotal amount donated will be matched by Forever Yours Jewelry.
X-ALT-DESC;FMTTYPE=text/html:<strong>Food Pantry Donation Sale</strong><br />\nNov. 29-Dec. 24\, 2024<br />\nA $10 or more cash donation to the Portage Food Pantry gives 25% off your purchase of in-store merchandise only. Some exclusions apply.<br />\nTotal amount donated will be matched by Forever Yours Jewelry.&nbsp\;
LOCATION:Forever Yours Jewelry 123 W. Cook Street Portage\, WI 53901
UID:e.374.35936
SEQUENCE:3
DTSTAMP:20260423T200111Z
URL:http://chamber.portagewi.com/events/details/food-pantry-donation-sale-at-forever-yours-jewelry-35936
END:VEVENT

END:VCALENDAR
