BEGIN:VCALENDAR
VERSION:2.0
PRODID:-//ChamberMaster//Event Calendar 2.0//EN
METHOD:PUBLISH
X-PUBLISHED-TTL:P3D
REFRESH-INTERVAL:P3D
CALSCALE:GREGORIAN
BEGIN:VEVENT
DTSTART;VALUE=DATE:20190325
DTEND;VALUE=DATE:20190329
TRANSP:TRANSPARENT
X-MICROSOFT-CDO-ALLDAYEVENT:TRUE
SUMMARY:Free Cancer Awareness Service at DSH
DESCRIPTION:Divine Savior Healthcare is providing free services and information for the community.\n\n\n\nFree colon cancer screening kit to use at home.\n\nFree skin cancer screening exam by a licensed practitioner. \n\n\n\nAppointments needed.  Call the phone line at 745-6406 between March 25 and 28.
X-ALT-DESC;FMTTYPE=text/html:<span style="font-size: 16px\;"><span style="font-family: arial\;">Divine Savior Healthcare is providing free services and information&nbsp\;for the community.<br />\n<br />\nFree colon cancer screening kit to use at home.<br />\nFree skin cancer&nbsp\;screening exam by a licensed practitioner.&nbsp\;<br />\n<br />\nAppointments needed.&nbsp\; Call the phone line at 745-6406 between March 25 and 28.</span></span><br />\n&nbsp\;
LOCATION:2817 New Pinery Road Portage\, WI 53901
UID:e.374.25743
SEQUENCE:3
DTSTAMP:20260421T220223Z
URL:http://chamber.portagewi.com/events/details/free-cancer-awareness-service-at-dsh-25743
END:VEVENT

END:VCALENDAR
