BEGIN:VCALENDAR
VERSION:2.0
PRODID:-//ChamberMaster//Event Calendar 2.0//EN
METHOD:PUBLISH
X-PUBLISHED-TTL:P3D
REFRESH-INTERVAL:P3D
CALSCALE:GREGORIAN
BEGIN:VEVENT
DTSTART:20231007T130000Z
DTEND:20231007T140000Z
X-MICROSOFT-CDO-ALLDAYEVENT:FALSE
SUMMARY:Free Community Workout at Portage CrossFit Cooperative
DESCRIPTION:FREE Community Workout at Portage CrossFit Cooperative\n\nGrab a friend (or just yourself and make friends here!) and come workout with us Saturday\, October 7th at 8:00am for FREE!!\n\nIt will be a BEGINNER workout with fun to be had by all!!\n\nSign up here: http://www.portagecrossfitcooperative.com/schedule.html\n\nIf you've never tried CrossFit\, this is for YOU!!!\n\nAre you a seasoned CrossFitter? This is for you too... you can always scale UP!\n\nCan't wait to see you at The COOP!!!
X-ALT-DESC;FMTTYPE=text/html:<h1 style="color:inherit\;font-size:inherit\;font-weight:inherit\;max-width:100%\;outline:none\;min-width:0px\;"><span style="font-size:14px\;"><span style="word-break:break-word\;max-width:100%\;min-width:0px\;"><span style="display:-webkit-box\;overflow:hidden\;"><span style="color:#1C1E21\;">FREE Community Workout at&nbsp\;</span><span style="color: rgb(28\, 30\, 33)\; font-weight: inherit\;">Portage CrossFit Cooperative</span></span></span></span></h1>\n\n<div class="xdj266r x11i5rnm xat24cr x1mh8g0r x1vvkbs" style="margin: 0px\; overflow-wrap: break-word\; font-family: &quot\;Segoe UI Historic&quot\;\, &quot\;Segoe UI&quot\;\, Helvetica\, Arial\, sans-serif\; color: rgb(5\, 5\, 5)\; font-size: 15px\;">Grab a friend (or just yourself and make friends here!) and come workout with us Saturday\, October 7th at 8:00am for FREE!!<br />\nIt will be a BEGINNER workout with fun to be had by all!!</div>\n\n<div class="x11i5rnm xat24cr x1mh8g0r x1vvkbs xtlvy1s" style="margin: 0.5em 0px 0px\; overflow-wrap: break-word\; font-family: &quot\;Segoe UI Historic&quot\;\, &quot\;Segoe UI&quot\;\, Helvetica\, Arial\, sans-serif\; color: rgb(5\, 5\, 5)\; font-size: 15px\;">Sign up here:&nbsp\;<a class="x1i10hfl xjbqb8w x6umtig x1b1mbwd xaqea5y xav7gou x9f619 x1ypdohk xt0psk2 xe8uvvx xdj266r x11i5rnm xat24cr x1mh8g0r xexx8yu x4uap5 x18d9i69 xkhd6sd x16tdsg8 x1hl2dhg xggy1nq x1a2a7pz xt0b8zv x1fey0fg" href="http://www.portagecrossfitcooperative.com/schedule.html?fbclid=IwAR0AMbYgr9ErXNmtw6KyF32FlUdPjuOQw7cSW_KTTaGttDvi_wPCLMRkY7U" rel="nofollow noreferrer" role="link" style="color: var(--blue-link)\; cursor: pointer\; text-decoration-line: none\; border-width: 0px\; border-style: initial\; border-color: initial\; outline: none\; list-style: none\; margin: 0px\; text-align: inherit\; padding: 0px\; -webkit-tap-highlight-color: transparent\; box-sizing: border-box\; touch-action: manipulation\; background-color: transparent\; display: inline\; font-family: inherit\;" tabindex="0" target="_blank">http://www.portagecrossfitcooperative.com/schedule.html</a></div>\n\n<div class="x11i5rnm xat24cr x1mh8g0r x1vvkbs xtlvy1s" style="margin: 0.5em 0px 0px\; overflow-wrap: break-word\; font-family: &quot\;Segoe UI Historic&quot\;\, &quot\;Segoe UI&quot\;\, Helvetica\, Arial\, sans-serif\; color: rgb(5\, 5\, 5)\; font-size: 15px\;">If you&#39\;ve never tried CrossFit\, this is for YOU!!!<br />\nAre you a seasoned CrossFitter? This is for you too... you can always scale UP!</div>\n\n<div class="x11i5rnm xat24cr x1mh8g0r x1vvkbs xtlvy1s" style="margin: 0.5em 0px 0px\; overflow-wrap: break-word\; font-family: &quot\;Segoe UI Historic&quot\;\, &quot\;Segoe UI&quot\;\, Helvetica\, Arial\, sans-serif\; color: rgb(5\, 5\, 5)\; font-size: 15px\;">Can&#39\;t wait to see you at The COOP!!!</div>\n
LOCATION:Portage CrossFit 211 East Albert Street Portage\, WI 53901
UID:e.374.33548
SEQUENCE:3
DTSTAMP:20260424T190418Z
URL:http://chamber.portagewi.com/events/details/free-community-workout-at-portage-crossfit-cooperative-33548
END:VEVENT

END:VCALENDAR
