BEGIN:VCALENDAR
VERSION:2.0
PRODID:-//ChamberMaster//Event Calendar 2.0//EN
METHOD:PUBLISH
X-PUBLISHED-TTL:P3D
REFRESH-INTERVAL:P3D
CALSCALE:GREGORIAN
BEGIN:VEVENT
DTSTART:20251009T220000Z
DTEND:20251010T000000Z
X-MICROSOFT-CDO-ALLDAYEVENT:FALSE
SUMMARY:Free Healthy Cooking Classes
DESCRIPTION:Free Healthy Cooking Classes\n\nJoin us as we demonstrate some delicious\, quick healthy recipes at the Portage Seventh-Day Adventist Church at 2100 E. State Highway 33 on Thursdays at 5pm. \n\n\n\nThere is no charge so bring a friend and join us. Listen to health advice from Blau Family Chiropractic\, too.  \n\n\n\nThursdays\n\nOct 9 - Italian\n\nOct 16 - Mexican\n\nOct 23 - Smorgasbord\n\nLearn: Dr. Blau and Tasha Buchholz will present topics on healthy living\n\nRegistration: 608-617-8924
X-ALT-DESC;FMTTYPE=text/html:<p><u>Free Healthy Cooking Classes</u><br />\nJoin us as we&nbsp\;demonstrate some delicious\, quick healthy recipes at the Portage Seventh-Day Adventist Church at 2100 E. State Highway 33 on Thursdays at 5pm.&nbsp\;<br />\n<br />\nThere is no charge so bring a friend and join us. Listen to health advice from Blau Family Chiropractic\, too.&nbsp\;&nbsp\;<br />\n<br />\n<u>Thursdays</u><br />\nOct 9 - Italian<br />\nOct 16&nbsp\;- Mexican<br />\nOct 23 - Smorgasbord<br />\nLearn: Dr. Blau and Tasha Buchholz will present topics on healthy living<br />\nRegistration: 608-617-8924<br />\n<br />\n&nbsp\;</p>\n
LOCATION:
UID:e.374.38923
SEQUENCE:3
DTSTAMP:20260423T033028Z
URL:http://chamber.portagewi.com/events/details/free-healthy-cooking-classes-38923
END:VEVENT

END:VCALENDAR
