BEGIN:VCALENDAR
VERSION:2.0
PRODID:-//ChamberMaster//Event Calendar 2.0//EN
METHOD:PUBLISH
X-PUBLISHED-TTL:P3D
REFRESH-INTERVAL:P3D
CALSCALE:GREGORIAN
BEGIN:VEVENT
DTSTART:20190305T233000Z
DTEND:20190306T003000Z
X-MICROSOFT-CDO-ALLDAYEVENT:FALSE
SUMMARY:Free Knee Pain Workshop at New Life Physical Therapy
DESCRIPTION:When: \n\nTuesday\, March 5 from 5:30pm to 6:30pm\n\n \n\n \n\nWhere:\n\nNew Life Physical Therapy   Portage\n\n2639 New Pinery Rd. Suite 2\n\nPortage\, WI 53901\n\n \n\nHow to Register: \n\nVisit www.NewLifePT.com/Portage-Workshop or call (608) 742-9356 to sign up! Space is limited!
X-ALT-DESC;FMTTYPE=text/html:<p style="margin: 0in 0in 0pt\;"><b><font color="#000000" face="Calibri" size="3">When: </font></b></p>\n\n<p style="margin: 0in 0in 0pt\;"><font face="Calibri"><font color="#000000"><font size="3">Tuesday\,&nbsp\;March 5&nbsp\;</font><font size="3">from 5:30pm to 6:30pm</font></font></font></p>\n\n<p style="margin: 0in 0in 0pt\;"><font color="#000000" face="Calibri" size="3">&nbsp\;</font></p>\n\n<p style="margin: 0in 0in 0pt\;">&nbsp\;</p>\n\n<p style="margin: 0in 0in 0pt\;"><b><font color="#000000" face="Calibri" size="3">Where:</font></b></p>\n\n<p style="margin: 0in 0in 0pt\;"><font color="#000000" face="Calibri" size="3">New Life Physical Therapy &ndash\; Portage</font></p>\n\n<p style="margin: 0in 0in 0pt\;"><font color="#000000" face="Calibri" size="3">2639 New Pinery Rd. Suite 2</font></p>\n\n<p style="margin: 0in 0in 0pt\;"><font color="#000000" face="Calibri" size="3">Portage\, WI 53901</font></p>\n\n<p style="margin: 0in 0in 0pt\;"><font color="#000000" face="Calibri" size="3">&nbsp\;</font></p>\n\n<p style="margin: 0in 0in 0pt\;"><b><font color="#000000" face="Calibri" size="3">How to Register: </font></b></p>\n\n<p style="margin: 0in 0in 0pt\;"><font color="#000000" face="Calibri" size="3">Visit </font><a href="http://www.newlifept.com/Portage-Workshop"><font color="#0000ff" face="Calibri" size="3">www.NewLifePT.com/Portage-Workshop</font></a><font color="#000000" face="Calibri" size="3"> or call (608) 742-9356 to sign up! Space is limited!</font></p>\n
LOCATION:
UID:e.374.25721
SEQUENCE:3
DTSTAMP:20260421T220230Z
URL:http://chamber.portagewi.com/events/details/free-knee-pain-workshop-at-new-life-physical-therapy-25721
END:VEVENT

END:VCALENDAR
