BEGIN:VCALENDAR
VERSION:2.0
PRODID:-//ChamberMaster//Event Calendar 2.0//EN
METHOD:PUBLISH
X-PUBLISHED-TTL:P3D
REFRESH-INTERVAL:P3D
CALSCALE:GREGORIAN
BEGIN:VEVENT
DTSTART;VALUE=DATE:20190324
DTEND;VALUE=DATE:20190325
TRANSP:TRANSPARENT
X-MICROSOFT-CDO-ALLDAYEVENT:TRUE
SUMMARY:Fundraiser for River Haven Homeless Shelter
DESCRIPTION:Portage Presbyterian Church will be hosting a fundraiser on Sunday\, March 24\, from 11:30 a.m. - 1:00 p.m.\n\n \n\nThis will be a "Spaghetti Lunch."\n\nMenu will include spaghetti and sauce\, tossed salad\, bread\, homemade desserts and beverage. \n\n \n\nThe cost is $5.00 per person.\n\n \n\nAt noon Raquel and Pete\, from the Shelter\, will share information on the mission and work of River Haven in the community.\n\n \n\nEveryone is invited to come and eat\, come and listen\, come and make a difference.
X-ALT-DESC;FMTTYPE=text/html:<p><span style="font-size: medium\;"><span style="font-family: calibri\;">Portage Presbyterian Church will be hosting a fundraiser on Sunday\, March 24\, from 11:30 a.m. - 1:00 p.m.</span></span><br />\n&nbsp\;<br />\n<span style="font-size: medium\;"><span style="font-family: calibri\;">This will be a &quot\;Spaghetti Lunch.&quot\;<br />\n<span style="font-size: medium\;"><span style="font-family: calibri\;">Menu will include spaghetti and sauce\, tossed salad\, bread\, homemade desserts and beverage. </span></span><br />\n&nbsp\;<br />\n<span style="font-size: medium\;"><span style="font-family: calibri\;">The cost is $5.00&nbsp\;per person.</span></span><br />\n&nbsp\;<br />\n<span style="font-size: medium\;"><span style="font-family: calibri\;">At noon Raquel and Pete\, from the Shelter\, will share information on the mission and work of River Haven in the community.</span></span><br />\n&nbsp\;<br />\n<span style="font-size: medium\;"><span style="font-family: calibri\;">Everyone is invited to come and eat\, come and listen\, come and make a difference.</span></span></span></span><br />\n&nbsp\;</p>\n
LOCATION:
UID:e.374.25742
SEQUENCE:3
DTSTAMP:20260421T215923Z
URL:http://chamber.portagewi.com/events/details/fundraiser-for-river-haven-homeless-shelter-25742
END:VEVENT

END:VCALENDAR
