BEGIN:VCALENDAR
VERSION:2.0
PRODID:-//ChamberMaster//Event Calendar 2.0//EN
METHOD:PUBLISH
X-PUBLISHED-TTL:P3D
REFRESH-INTERVAL:P3D
CALSCALE:GREGORIAN
BEGIN:VEVENT
DTSTART:20251024T230000Z
DTEND:20251025T020000Z
X-MICROSOFT-CDO-ALLDAYEVENT:FALSE
SUMMARY:Game Night at Gathering Midwest
DESCRIPTION:Join us at the Gathering Midwest church for a fun night of board and card games! This will be primarily geared towards adults\, but kids activities and games will also be provided (infant care is not yet available\, but children of all ages are welcome)! Please RSVP and let us know if you are bringing children so we can prepare accordingly. See you there!
X-ALT-DESC;FMTTYPE=text/html:Join us at the Gathering Midwest church for a fun night of board and card games! This will be primarily geared towards adults\, but kids activities and games will also be provided (infant care is not yet available\, but children of all ages are welcome)! Please RSVP and let us know if you are bringing children so we can prepare accordingly. See you there!
LOCATION:Gathering Midwest N6522 U.S. Hwy 51 Suite B-1 Portage WI\, 53901
UID:e.374.37863
SEQUENCE:3
DTSTAMP:20260423T033317Z
URL:http://chamber.portagewi.com/events/details/game-night-at-gathering-midwest-10-24-2025-37863
END:VEVENT

END:VCALENDAR
