BEGIN:VCALENDAR
VERSION:2.0
PRODID:-//ChamberMaster//Event Calendar 2.0//EN
METHOD:PUBLISH
X-PUBLISHED-TTL:P3D
REFRESH-INTERVAL:P3D
CALSCALE:GREGORIAN
BEGIN:VEVENT
DTSTART;VALUE=DATE:20260709
DTEND;VALUE=DATE:20260712
TRANSP:TRANSPARENT
X-MICROSOFT-CDO-ALLDAYEVENT:TRUE
SUMMARY:Garden Tractor Daze
DESCRIPTION:Garden Tractor Daze at the Columbia County Fairgrounds.\n\nFeaturing a Garden Tractor show with farm tractors\, hit and miss engines\, antique farm garden equipment\, pedal pull for adults and kids\, indoor flea market and farm toy show with an outside garden tractor swap meet.\n\n\n\nFood on the grounds\, tractor part vendors\, music\, garden tractor parade\, plenty of room for large displays.\n\n\n\nAllis Chalmers\, and Simplicity built tractors will be our main feature this year. Also Wheel Horse Ralley of the Red\, Case Demonstrator reunion\, 60th Anniversary Gathering of the Case T-90. New this year Celebrating the Class of 1966......All tractor models made in 1966\, and the Colt\, Case\, Ingersoll Collectors Convention.
X-ALT-DESC;FMTTYPE=text/html:<span style="font-size:14px\;"><span style="font-family:arial\;">Garden Tractor Daze at the&nbsp\;Columbia County&nbsp\;Fairgrounds.<br />\nFeaturing a Garden Tractor show with farm tractors\, hit and miss engines\, antique farm garden&nbsp\;equipment\, pedal pull for adults and kids\, indoor flea market and farm toy show with an outside&nbsp\;garden tractor swap meet.<br />\n<br />\nFood on the grounds\, tractor part vendors\, music\, garden tractor parade\, plenty of room for large displays.<br />\n<br />\n<span style="color: rgb(8\, 8\, 9)\;">Allis Chalmers\, and Simplicity built tractors will be our main feature this year. Also Wheel Horse Ralley of the Red\, Case Demonstrator reunion\, 60th Anniversary Gathering of the Case T-90. New this year Celebrating the Class of 1966......All tractor models made in 1966\, and the Colt\, Case\, Ingersoll Collectors Convention.</span></span></span><br />\n<br />\n<br />\n<br />\n<br />\n<br />\n<br />\n<br />\n<span style="font-size: 12px\;"><span style="font-family: arial\;">&nbsp\;</span></span><br />\n&nbsp\;
LOCATION:Columbia County Fairgrounds 300 Superior Street Portage\, WI
UID:e.374.40028
SEQUENCE:3
DTSTAMP:20260423T001244Z
URL:http://chamber.portagewi.com/events/details/garden-tractor-daze-40028
END:VEVENT

END:VCALENDAR
