BEGIN:VCALENDAR
VERSION:2.0
PRODID:-//ChamberMaster//Event Calendar 2.0//EN
METHOD:PUBLISH
X-PUBLISHED-TTL:P3D
REFRESH-INTERVAL:P3D
CALSCALE:GREGORIAN
BEGIN:VEVENT
DTSTART:20251117T233000Z
DTEND:20251118T003000Z
X-MICROSOFT-CDO-ALLDAYEVENT:FALSE
SUMMARY:Gather & Grow: A Family Wellness Group
DESCRIPTION:Lighting the Path for Informed\, Empowered Parents...\n\nGather & Grow: A Family Wellness Group\n\n\n\nDo you want a healthy\, happy family? A supportive group of families with the same vision?\n\n\n\nJoin us as we meet to discuss:\n\n- Mom's health\n\n- Birth and pregnancy\n\n- Holistic healing\n\n- Healthy families\n\n- Chiropractic care\n\n- Shared experiences
X-ALT-DESC;FMTTYPE=text/html:Lighting the Path for Informed\, Empowered Parents...<br />\n<strong>Gather &amp\; Grow</strong>: A Family Wellness Group<br />\n<br />\nDo you want a healthy\, happy family? A supportive group of families with the same vision?<br />\n<br />\nJoin us as we meet to discuss:<br />\n- Mom&#39\;s health<br />\n- Birth and pregnancy<br />\n- Holistic healing<br />\n- Healthy families<br />\n- Chiropractic care<br />\n- Shared experiences
LOCATION:Blau Family Chiropractic 641 Latton Lane
UID:e.374.39354
SEQUENCE:3
DTSTAMP:20260423T031028Z
URL:http://chamber.portagewi.com/events/details/gather-grow-a-family-wellness-group-39354
END:VEVENT

END:VCALENDAR
