BEGIN:VCALENDAR
VERSION:2.0
PRODID:-//ChamberMaster//Event Calendar 2.0//EN
METHOD:PUBLISH
X-PUBLISHED-TTL:P3D
REFRESH-INTERVAL:P3D
CALSCALE:GREGORIAN
BEGIN:VEVENT
DTSTART;VALUE=DATE:20250926
DTEND;VALUE=DATE:20250929
TRANSP:TRANSPARENT
X-MICROSOFT-CDO-ALLDAYEVENT:TRUE
SUMMARY:Glacier Valley Campground Cancer Survivor Weekend
DESCRIPTION:Cancer Survivors Weekend at Glacier Valley Campground\n\nSeptember 26-28\, 2025\n\nAll cancer survivors can camp for free. Join other survivors and supporters as we honor their battle and raise funds for cancer research. Large silent auction open to public. 50/50 raffle.\n\n\n\nDonations wanted for silent auction - If you would like to donate an item for the silent auction\, please call Brittney Roeske at 262-442-8685.\n\n\n\nGlacier Valley Campground\, N8129 Larson Road\, Cambria\, WI
X-ALT-DESC;FMTTYPE=text/html:<strong>Cancer Survivors Weekend at Glacier Valley Campground</strong><br />\nSeptember 26-28\, 2025<br />\nAll cancer survivors can camp for free. Join other survivors and supporters as we honor their battle and raise funds for cancer research. Large silent auction open to public. 50/50 raffle.<br />\n<br />\nDonations wanted for silent auction - If you would like to donate an item for the silent auction\, please call Brittney Roeske at 262-442-8685.<br />\n<br />\nGlacier Valley Campground\, N8129 Larson Road\, Cambria\, WI
LOCATION:
UID:e.374.38915
SEQUENCE:3
DTSTAMP:20260423T074759Z
URL:http://chamber.portagewi.com/events/details/glacier-valley-campground-cancer-survivor-weekend-38915
END:VEVENT

END:VCALENDAR
